BEGIN:VCALENDAR
VERSION:2.0
PRODID:-//wp-events-plugin.com//7.2.3.1//EN
TZID:Europe/Zurich
X-WR-TIMEZONE:Europe/Zurich
BEGIN:VEVENT
UID:16@sac-saas.ch
DTSTART;TZID=Europe/Zurich;VALUE=DATE:20230701
DTEND;TZID=Europe/Zurich;VALUE=DATE:20230702
DTSTAMP:20230620T145859Z
URL:https://sac-saas.ch/events/zermatt-marathon-helferinnen-und-helfer-ges
 ucht/
SUMMARY:Zermatt Marathon. Helferinnen und Helfer gesucht / Anmeldung ab 16.
 01.2023
DESCRIPTION:!!Die Einteilung\, der Helfer:Innen\, für die Streckensicherun
 g ist gemacht!!\n&nbsp\;\n\nMöchtest du einmal hinter die Kulissen des La
 uf-Events von einem der schönsten Marathons Europas schauen?\n\nWir suche
 n ca. 25 motivierte Helferinnen und Helfer\, die Lust haben\, den Zermatt-
 Marathon\, am 01.07.2022\, zu unterstützen.\n\nEine Anmeldung gilt als ve
 rbindlich.\n\nWir helfen auf der Strecke: Zermatt Dorf - Sunnegga. Vortei
 l: Der Helfer-Einsatz dauert bis nach dem Mittag. Somit steht der Nachmitt
 ag zur freien Verfügung.\n\nWICHTIG: Bitte bei der Anmeldung die T-Shirt 
 Grösse angeben! In der Regel fallen Diese immer etwas kleiner aus.\n\n\n\
 nAnmeldung möglich ab:\n16.01.2023\, 07:00\n\n\nSchwierigkeit\n**********
 ************************\n\n\nSBB Fahrplan\nDas Online-Portal der SBB für
  Zug und ÖV | SBB\n\n\nAusrüstung\nHochgebirge. Gute Schuhe und Kleider!
 \n\n\nEckdaten\nDetails werden fortlaufend aktualisiert\n\n\nTreffpunkt\nW
 ird noch bekannt gegeben\n\n\nTeilnehmerzahl\n25 inkl. 2 OK\n\n\nInfos:\nN
 adine Briggeler: 078 733 14 96  Stephan Wyer: 079 479 06 73\n\n\n\nDas
  kannst du erleben\, das erhältst du:\n\n 	Die Ambiance eines Marathons i
 nmitten der schönen Zermatter-Bergwelt.\n 	Du erhältst ein Edelride Helf
 er-Shirt.\n 	Du bekommst am Helfertag eine Gratis-Tageskarte.\n 	Ein Lunch
 packet und ein Mittagessen im Restaurant.\n 	Ein Dankes-Anlass mit einem E
 ssen\, inkl. An- und Rückfahrt.\n 	Du bekommst 1 persönlicher Helferbonu
 s\, für Frühanmeldung bei Touren\n\nFahrplan Helferzug Marathon:\n\nStre
 ckensicherung Zermatt-Sunegga\, Sunegga-Grindjisee\, Zermatt\n\nBrig ab: 
              05:52                                 
                Bern ab:                        keine Ve
 rb.\n\nVisp ab:              06:08                      
                          Visperterminen ab:    keine Verb.\
 n\nStalden ab:         06:18                           
                     Saas Grund Post ab:  05:38\n\nSt. Niklaus a
 b:   06:36                                         
       Grächen ab:                 keine Verb.\n\nHerbriggen a
 b:  06.44\n\nRanda ab:           06:54\n\nTäsch ab:          
   07:00\n\nZermatt an:        07:14\n\nZermatt ab:        08:00\n
 \nSunegga an:       08:05
CATEGORIES:SAC Tour
END:VEVENT
BEGIN:VTIMEZONE
TZID:Europe/Zurich
X-LIC-LOCATION:Europe/Zurich
BEGIN:DAYLIGHT
DTSTART:20230326T030000
TZOFFSETFROM:+0100
TZOFFSETTO:+0200
TZNAME:CEST
END:DAYLIGHT
END:VTIMEZONE
END:VCALENDAR