BEGIN:VCALENDAR
VERSION:2.0
PRODID:-//wp-events-plugin.com//7.2.3.1//EN
TZID:Europe/Zurich
X-WR-TIMEZONE:Europe/Zurich
BEGIN:VEVENT
UID:206@sac-saas.ch
DTSTART;TZID=Europe/Zurich;VALUE=DATE:20240706
DTEND;TZID=Europe/Zurich;VALUE=DATE:20240707
DTSTAMP:20240702T131651Z
URL:https://sac-saas.ch/events/zermatt-marathon-helferinnen-und-helfer-ges
 ucht-anmeldung-ab-04-02-2024/
SUMMARY:ABGESAGT!! Zermatt Marathon. Helferinnen und Helfer gesucht / Anmel
 dung ab 04.02.2024
DESCRIPTION:Wegen den Unwettern\, wird der diesjährige Zermatt Marathon vo
 llumfänglich abgesagt!! \n\nAus organisatorischen Gründen\, seitens OK 
 Zermatt Marathon\, läuft die Anmeldefrist am 15.05.2024 ab. \n\nMöchtes
 t du einmal hinter die Kulissen des Lauf-Events von einem der schönsten M
 arathons Europas schauen?\n\nWir suchen ca. 25 motivierte Helferinnen und 
 Helfer\, die Lust haben\, den Zermatt-Marathon\, am 06.07.2024\, zu unters
 tützen.\n\nEine Anmeldung gilt als verbindlich.\n\nWir helfen auf der Str
 ecke: Zermatt Dorf - Sunnegga. Ich wurde vom OK angefragt\, ob es möglich
  ist\, auch einige Leute für oberhalb Sunnegga zu stellen. Wenn jemand da
 s so möchte\, bitte bei der Anmeldung vermerken. Besten Dank.\n\nWICHTIG:
  Bitte bei der Anmeldung die T-Shirt Grösse angeben! In der Regel fallen 
 Diese immer etwas kleiner aus.\n\n\n\nAnmeldung möglich ab:\n04.02.2024\n
 \n\nFahrplan\nDas Online-Portal der SBB für Zug und ÖV | SBB\n\n\nZermat
 t Marathon Link\nwww.zermattmarathon.ch\n\n\nEckdaten\nDetails werden fort
 laufend kommentiert\n\n\nAusrüstung\nWetterangepasste Kleidung\n\n\nTreff
 punkt\nDetails folgen\n\n\nTeilnehmerzahl\n25\n\n\n\nDas kannst du erleben
 \, das erhältst du:\n\n 	Die Ambiance eines Marathons inmitten der schön
 en Zermatter-Bergwelt.\n 	Du erhältst ein Edelride Helfer-Shirt.\n 	Du be
 kommst am Helfertag eine Gratis-Tageskarte.\n 	Ein Lunchpacket und ein Mit
 tagessen im Restaurant.\n 	Ein Dankes-Anlass mit einem Essen\, inkl. An- u
 nd Rückfahrt.\n 	Du bekommst 1 persönlicher Helferbonus\, für Frühanme
 ldung bei Touren\n\nHelfer-Anmeldeliste\, SAC Mitglieder und Externe:\n\n\
 n\nStephan W.\nSAC\n\n\nSabine v O.\nSAC\n\n\nAlex M.\nSAC\n\n\nAnita S.\n
 SAC\n\n\nEléonore G.\nSAC\n\n\nFranco D.P.\nSAC\n\n\nPeter D.\nSAC\n\n\nP
 atrick F.\n\n\n\nAngelika B.\n\n\n\nWerner B.\n\n\n\nJamie C-F.\n\n\n\nNic
 ole C-F.\n\n\n\nGerald B.\n\n\n\nAldo Z.\n\n\n\nRosmarie W.\nSAC\n\n\n\n\n
 \n\nTotal: 15\n\n\n\n\n&nbsp\;\n\n&nbsp\;\n\n&nbsp\;\n\n&nbsp\;
CATEGORIES:SAC Tour
END:VEVENT
BEGIN:VTIMEZONE
TZID:Europe/Zurich
X-LIC-LOCATION:Europe/Zurich
BEGIN:DAYLIGHT
DTSTART:20240331T030000
TZOFFSETFROM:+0100
TZOFFSETTO:+0200
TZNAME:CEST
END:DAYLIGHT
END:VTIMEZONE
END:VCALENDAR