BEGIN:VCALENDAR
VERSION:2.0
PRODID:-//wp-events-plugin.com//7.2.3.1//EN
TZID:Europe/Zurich
X-WR-TIMEZONE:Europe/Zurich
BEGIN:VEVENT
UID:413@sac-saas.ch
DTSTART;TZID=Europe/Zurich;VALUE=DATE:20250705
DTEND;TZID=Europe/Zurich;VALUE=DATE:20250706
DTSTAMP:20250705T181516Z
URL:https://sac-saas.ch/events/zermatt-marathon-helferinnen-und-helfer-ges
 ucht-anmeldung-ab-03-02-2025/
SUMMARY:Zermatt Marathon. Helferinnen und Helfer gesucht / Anmeldung ab 03.
 02.2025
DESCRIPTION:&nbsp\;\n\n&nbsp\;\n\nMöchtest du einmal hinter die Kulissen d
 es Lauf-Events von einem der schönsten Marathons Europas schauen?\n\nWir 
 suchen ca. 25 motivierte Helferinnen und Helfer\, die Lust haben\, den Zer
 matt-Marathon\, am 05.07.2025\, zu unterstützen.\n\nEine Anmeldung gilt a
 ls verbindlich!\n\nWir helfen auf der Strecke: Zermatt Dorf - Sunnegga. \
 n\nWICHTIG: Bitte bei der Anmeldung die T-Shirt Grösse angeben! In der Re
 gel fallen Diese immer etwas kleiner aus.\n\n\n\nAnmeldung möglich ab:\n0
 3.02.2025. Mit einem Helfer-Ticket ab sofort möglich\n\n\nFahrplan\nDas O
 nline-Portal der SBB für Zug und ÖV | SBB\n\n\nZermatt Marathon Link\nww
 w.zermattmarathon.ch\n\n\nEckdaten\nDetails werden fortlaufend kommentiert
 \n\n\nAusrüstung\nWetterangepasste Kleidung\n\n\nTreffpunkt\nDetails folg
 en\n\n\nTeilnehmerzahl\n25\n\n\n\nDas kannst du erleben\, das erhältst du
 :\n\n 	Die Ambiance eines Marathons inmitten der schönen Zermatter-Bergwe
 lt.\n 	Du erhältst ein Edelride Helfer-Shirt.\n 	Du bekommst am Helfertag
  eine Gratis-Tageskarte.\n 	Ein Lunchpacket und ein Mittagessen im Restaur
 ant.\n 	Ein Dankes-Anlass mit einem Essen\, inkl. An- und Rückfahrt.\n 	D
 u bekommst 1 persönlicher Helferbonus\, für Frühanmeldung bei Touren\n\
 nHelfer-Anmeldeliste\, SAC Mitglieder und Externe:\n\n\n\n\n\n\n\n\n\n\n\n
 \n\n\n\n\n\n\n\n\n\n\n\n\n\n\n\n\n\n\n\n\n\n\n\n\n\n\n\n\n\n\n\n\n\n\n\n\n
 \n\n\n\n\n\n\n\n\n\n\n\n\n\n\n\n\n\n\n\n\n\n\n\n\n\n\n\n\n\n\n\n\n\n\n\n&n
 bsp\;\n\n&nbsp\;\n\n&nbsp\;\n\n&nbsp\;
CATEGORIES:Clubanlass,SAC Tour
END:VEVENT
BEGIN:VTIMEZONE
TZID:Europe/Zurich
X-LIC-LOCATION:Europe/Zurich
BEGIN:DAYLIGHT
DTSTART:20250330T030000
TZOFFSETFROM:+0100
TZOFFSETTO:+0200
TZNAME:CEST
END:DAYLIGHT
END:VTIMEZONE
END:VCALENDAR