BEGIN:VCALENDAR
VERSION:2.0
PRODID:-//wp-events-plugin.com//7.2.3.1//EN
TZID:Europe/Zurich
X-WR-TIMEZONE:Europe/Zurich
BEGIN:VEVENT
UID:192@sac-saas.ch
DTSTART;TZID=Europe/Zurich;VALUE=DATE:20240616
DTEND;TZID=Europe/Zurich;VALUE=DATE:20240617
DTSTAMP:20240610T075509Z
URL:https://sac-saas.ch/events/witenwasserstock-tagestour-ab-oberstafel/
SUMMARY:Witenwasserstock (Tagestour ab Oberstafel) / Anmeldung ab 26.05.202
 4
DESCRIPTION:Weil es noch sehr viel Schnee hat wird die Tour auf Ende Sommer
  verschoben!\n\nDatum folgt\n\n&nbsp\;\n\nWitenwasserstock (Tagestour ab O
 berstafel)\n\n\n\nAnmeldung möglich ab:\n26.05.2024\n\n\nSchwierigkeit\nZ
 S\, 3a\n\n\nEckdaten\n↑ ↓ 900 Hm\, Total circa 8h\n\n\nAusrüstung\nwi
 rd noch bekannt gegeben\n\n\nTreffpunkt\nwird noch bekannt gegeben\n\n\nTe
 ilnehmerzahl\n1TL Francine\, 1SF Simone\, 4Teilnehmer\n\n\n\n&nbsp\;
CATEGORIES:Bergtour,SAC Tour
END:VEVENT
BEGIN:VTIMEZONE
TZID:Europe/Zurich
X-LIC-LOCATION:Europe/Zurich
BEGIN:DAYLIGHT
DTSTART:20240331T030000
TZOFFSETFROM:+0100
TZOFFSETTO:+0200
TZNAME:CEST
END:DAYLIGHT
END:VTIMEZONE
END:VCALENDAR