BEGIN:VCALENDAR
VERSION:2.0
PRODID:-//wp-events-plugin.com//7.2.3.1//EN
TZID:Europe/Zurich
X-WR-TIMEZONE:Europe/Zurich
BEGIN:VEVENT
UID:420@sac-saas.ch
DTSTART;TZID=Europe/Zurich;VALUE=DATE:20241222
DTEND;TZID=Europe/Zurich;VALUE=DATE:20241223
DTSTAMP:20241221T173419Z
URL:https://sac-saas.ch/events/winter-tourenleiterkurs-fk-anmeldung-ab-15-
 11-2024/
SUMMARY:Winter-Tourenleiterkurs FK / Anmeldung ab 15.11.2024
DESCRIPTION:Winter-Tourenleiter FK SAC Saas 2024\n\nEntschuldigt mich die s
 päte Meldung...bin erst vor kurzem vom Lawinenkurs heimgekehrt...\n\nWir 
 treffen uns morgen um 9:00 im Restaurant la Promenade in Ovronnaz. \n\nWe
 nn mich jemand Eingangs Pfynwald beim Restaurant Spycher um 8:15 mitnehmen
  kann\, wäre super!!\n\nTheorie und je nach Wetter steht eine kleine Tour
  auf dem Programm...kleine Zwischenverpflegung einpacken!!!\n\nFreue mich 
 euch alle zu sehen!!!!\n\nDa die Niederschlagsvorhersagen für Sonntag noc
 h stark variieren\, werde ich erst morgen Abend entscheiden in welcher Reg
 ion wir den FK durchführen werden. Danke vielmals für euer Verständnis.
 \n\nDer Winter hat im Wallis schon kräftig Einzug gehalten!!! Ich hoffe s
 ehr\, dass wir für unseren FK immer noch hochwinterliche Verhältnisse vo
 rfinden werden.\n\nWir werden wie letztes Jahr gemeinsam eine Tour vorbere
 iten und später im Gelände die Entscheidungen bezüglich Lawinensituatio
 n\, Tourenführung und Orientierung besprechen.\n\nBitte gebt mir bei der 
 Anmeldung Bescheid ob ihr wünsche zu einem Ausbildungsthema habt. Ziel is
 t es\, dass ihr optimal für die kommende Tourensaison gerüstet seid!!!\n
 \nGanz liebe Grüsse und ich freue mich euch alle wieder zu sehen!!\n\nAuf
  einen konstruktiven\, lehrreichen Tag im Schnee!!!\n\nVoide Gabriel\n\n\n
 \n\n\n\n\nSchwierigkeit\nAusbildungstag\n\n\nEckdaten\n\n\n\nAusrüstung\n
 Komplette Tourenausrüstung\n\n\nTreffpunkt\nDa die Niederschlagsvorhersag
 en für Sonntag noch stark variieren\, werde ich erst morgen Abend entsche
 iden in welcher Region wir den FK durchführen werden. Danke vielmals für
  euer Verständnis.\n\n\nTeilnehmerzahl\n10\n\n\n\n&nbsp\;
CATEGORIES:SAC Tour
END:VEVENT
BEGIN:VTIMEZONE
TZID:Europe/Zurich
X-LIC-LOCATION:Europe/Zurich
BEGIN:STANDARD
DTSTART:20241027T020000
TZOFFSETFROM:+0200
TZOFFSETTO:+0100
TZNAME:CET
END:STANDARD
END:VTIMEZONE
END:VCALENDAR