BEGIN:VCALENDAR
VERSION:2.0
PRODID:-//wp-events-plugin.com//7.2.3.1//EN
TZID:Europe/Zurich
X-WR-TIMEZONE:Europe/Zurich
BEGIN:VEVENT
UID:487@sac-saas.ch
DTSTART;TZID=Europe/Zurich;VALUE=DATE:20260621
DTEND;TZID=Europe/Zurich;VALUE=DATE:20260622
DTSTAMP:20260118T210536Z
URL:https://sac-saas.ch/events/weissmies-normalroute-anmeldung-ab-07-jun-2
 026/
SUMMARY:Weissmies Normalroute / Anmeldung ab 21.05.2026
DESCRIPTION:Weissmies Normalroute vom Hohsaas aus\n\n\n\nAnmeldung ab:\n21.
 05.2026\n\n\nSchwierigkeit\nWS\n\n\nEckdaten\n↑↓920\n\n\nAusrüstung\n
 Hochtourenausrüstung (Details folgen)\n\n\nTreffpunkt\nSaas Grund Talstat
 ion (Details folgen)\n\n\nTeilnehmerzahl\n6 (1TL\, 1SF\, 4Teilnehmer)\n\n\
 n\n&nbsp\;
CATEGORIES:Hochtour,SAC Tour
END:VEVENT
BEGIN:VTIMEZONE
TZID:Europe/Zurich
X-LIC-LOCATION:Europe/Zurich
BEGIN:DAYLIGHT
DTSTART:20260329T030000
TZOFFSETFROM:+0100
TZOFFSETTO:+0200
TZNAME:CEST
END:DAYLIGHT
END:VTIMEZONE
END:VCALENDAR