BEGIN:VCALENDAR
VERSION:2.0
PRODID:-//wp-events-plugin.com//7.2.3.1//EN
TZID:Europe/Zurich
X-WR-TIMEZONE:Europe/Zurich
BEGIN:VEVENT
UID:83@sac-saas.ch
DTSTART;TZID=Europe/Zurich;VALUE=DATE:20231014
DTEND;TZID=Europe/Zurich;VALUE=DATE:20231015
DTSTAMP:20221219T143823Z
URL:https://sac-saas.ch/events/wanderung-perueckenstrauch-im-rhonetal/
SUMMARY:Wanderung Perückenstrauch im Rhonetal / Anmeldung ab 14.09.2023
DESCRIPTION:Wanderung auf steinigen Pfaden mit flammenden Herbstfarben\n\nB
 ereits von der Bahnstation Turtmann aus sehen wir die rot flammenden\, mit
  dem Perückenstrauch bewachsenen Hänge weiter Rhoneabwärts.  Die Halde
 n sind mit trockenwarmen Gebüschen und kontentalen Zwergstrauchheiden bew
 achsen. Der giftige\, immergrüne Sefistrauch mit seinen thujaähnlichen Z
 weigen\, die Felsenkirsche mit schwarzen\, kirschenähnlichen Früchten un
 d die Flaumeiche bilden zusammen mit dem Perückenstrauch reizvolle Farben
 teppiche. Eine Farbenpalette vom Feinsten.
CATEGORIES:SAC Tour,Wanderung
END:VEVENT
BEGIN:VTIMEZONE
TZID:Europe/Zurich
X-LIC-LOCATION:Europe/Zurich
BEGIN:DAYLIGHT
DTSTART:20230326T030000
TZOFFSETFROM:+0100
TZOFFSETTO:+0200
TZNAME:CEST
END:DAYLIGHT
END:VTIMEZONE
END:VCALENDAR