BEGIN:VCALENDAR
VERSION:2.0
PRODID:-//wp-events-plugin.com//7.2.3.1//EN
TZID:Europe/Zurich
X-WR-TIMEZONE:Europe/Zurich
BEGIN:VEVENT
UID:621@sac-saas.ch
DTSTART;TZID=Europe/Zurich;VALUE=DATE:20260805
DTEND;TZID=Europe/Zurich;VALUE=DATE:20260806
DTSTAMP:20260118T212235Z
URL:https://sac-saas.ch/events/wanderung-madonna-delle-neve-anmeldung-ab-0
 5-07-2026/
SUMMARY:Wanderung Madonna delle Neve / Anmeldung ab 05.07.2026
DESCRIPTION:Wanderung Madonna delle Neve\n\n\n\nAnmeldung ab:\n05.07.2026\n
 \n\nSchwierigkeit\nT2\n\n\nEckdaten\n\n\n\nAusrüstung\nDetails folgen\n\n
 \nTreffpunkt\nDetails folgen\n\n\nTeilnehmerzahl\n\n\n\n\n&nbsp\;
CATEGORIES:SAC Tour,Wanderung
END:VEVENT
BEGIN:VTIMEZONE
TZID:Europe/Zurich
X-LIC-LOCATION:Europe/Zurich
BEGIN:DAYLIGHT
DTSTART:20260329T030000
TZOFFSETFROM:+0100
TZOFFSETTO:+0200
TZNAME:CEST
END:DAYLIGHT
END:VTIMEZONE
END:VCALENDAR