BEGIN:VCALENDAR
VERSION:2.0
PRODID:-//wp-events-plugin.com//7.2.3.1//EN
TZID:Europe/Zurich
X-WR-TIMEZONE:Europe/Zurich
BEGIN:VEVENT
UID:484@sac-saas.ch
DTSTART;TZID=Europe/Zurich;VALUE=DATE:20260823
DTEND;TZID=Europe/Zurich;VALUE=DATE:20260824
DTSTAMP:20260311T094300Z
URL:https://sac-saas.ch/events/wanderung-loetschenpasswanderung-23-08-2026
 /
SUMMARY:Wanderung: Lötschenpasswanderung/ Anmeldung ab 03.08.2026
DESCRIPTION:Von der Lauchneralp hoch zum Lötschenpass\, hinunter zur Kumme
 nalp und dann wieder zur Lauchernalp. Wer Magiicpass hat\, nicht vergessen
 .\n\n\n\nAnmeldung ab:\n03.08.2026\n\n\nSchwierigkeit\nmittel\n\n\nEckdate
 n\n\n\n\nAusrüstung\nWanderausrüstung plus Trekkingstöcke (Rückweg ist
  steil).\n\n\nTreffpunkt\nTalstation Wiler\n\n\nTeilnehmerzahl\n10\n\n\n\n
 &nbsp\;
CATEGORIES:SAC Tour,Wanderung
END:VEVENT
BEGIN:VTIMEZONE
TZID:Europe/Zurich
X-LIC-LOCATION:Europe/Zurich
BEGIN:DAYLIGHT
DTSTART:20260329T030000
TZOFFSETFROM:+0100
TZOFFSETTO:+0200
TZNAME:CEST
END:DAYLIGHT
END:VTIMEZONE
END:VCALENDAR