BEGIN:VCALENDAR
VERSION:2.0
PRODID:-//wp-events-plugin.com//7.2.3.1//EN
TZID:Europe/Zurich
X-WR-TIMEZONE:Europe/Zurich
BEGIN:VEVENT
UID:82@sac-saas.ch
DTSTART;TZID=Europe/Zurich;VALUE=DATE:20230618
DTEND;TZID=Europe/Zurich;VALUE=DATE:20230619
DTSTAMP:20230616T090418Z
URL:https://sac-saas.ch/events/wanderung-kakteen-im-wallis/
SUMMARY:Wanderung Kakteen im Wallis / Anmeldung ab 18.05.2023
DESCRIPTION:Mangels Teilnehmer wird die Tour abgesagt.\nDas Wallis ist ja b
 ekannt für seinen Wein. Lange Rebhänge ziehen im Unterwallis den Blick a
 uf sich. Das Walliser Steppenklima hat aber noch ein paar andere kuriose B
 esonderheiten: wildwachsende Kakteen. Es ist einmalig für Mitteleuropa\, 
 solche von Kakteen überwachsene Felsen und Hänge zu sehen. Das gibt es s
 onst nur im SW der USA oder in Mexiko zu bestaunen. Wir verbringen den Tag
  in der Gegend um Sitten und erfahren einiges über diese schweizerischen 
 Raritäten.\n&nbsp\;\n\n\n\nAnmeldung möglich ab:\n25.05.2023\, 07:00\n\n
 \nSchwierigkeit\nT 1\n\n\nEckdaten\n\n\n\nAusrüstung\ndem Wetter angepass
 te Kleidung\,Sonnenschutz\, Picknick\, Getränke\n\n\nTreffpunkt\nVisp ab 
 9:06 Uhr \; Sitten Postauto ab 9:45 Uhr Richtung Pont de la Morge Centre. 
 Retour ca. 16 Uhr von Sitten\n\n\nTeilnehmerzahl\n10\n\n\n
CATEGORIES:SAC Tour
END:VEVENT
BEGIN:VTIMEZONE
TZID:Europe/Zurich
X-LIC-LOCATION:Europe/Zurich
BEGIN:DAYLIGHT
DTSTART:20230326T030000
TZOFFSETFROM:+0100
TZOFFSETTO:+0200
TZNAME:CEST
END:DAYLIGHT
END:VTIMEZONE
END:VCALENDAR