BEGIN:VCALENDAR
VERSION:2.0
PRODID:-//wp-events-plugin.com//7.2.3.1//EN
TZID:Europe/Zurich
X-WR-TIMEZONE:Europe/Zurich
BEGIN:VEVENT
UID:123@sac-saas.ch
DTSTART;TZID=Europe/Zurich;VALUE=DATE:20230909
DTEND;TZID=Europe/Zurich;VALUE=DATE:20230911
DTSTAMP:20230714T211248Z
URL:https://sac-saas.ch/events/wanderung-galmihornhuette-gross-chastelhorn
 /
SUMMARY:Wanderung Galmihornhütte-Gross Chastelhorn / abgesagt
DESCRIPTION:Tour muss wegen Krankheit abgesagt werden\n\n\n\nAnmeldung mög
 lichab:\n01.07.2023\, 07:00\n\n\nSchwierigkeit\nT2\n\n\nEckdaten\n ↑ xx
 x Hm  ↓ xxx Hm -&gt\; x h\n\n\nAusrüstung\n\n\n\nTreffpunkt\n\n\n\nTei
 lnehmerzahl\n8\n\n\n\n&nbsp\;
CATEGORIES:SAC Tour
END:VEVENT
BEGIN:VTIMEZONE
TZID:Europe/Zurich
X-LIC-LOCATION:Europe/Zurich
BEGIN:DAYLIGHT
DTSTART:20230326T030000
TZOFFSETFROM:+0100
TZOFFSETTO:+0200
TZNAME:CEST
END:DAYLIGHT
END:VTIMEZONE
END:VCALENDAR