BEGIN:VCALENDAR
VERSION:2.0
PRODID:-//wp-events-plugin.com//7.2.3.1//EN
TZID:Europe/Zurich
X-WR-TIMEZONE:Europe/Zurich
BEGIN:VEVENT
UID:61@sac-saas.ch
DTSTART;TZID=Europe/Zurich;VALUE=DATE:20230820
DTEND;TZID=Europe/Zurich;VALUE=DATE:20230821
DTSTAMP:20230714T210630Z
URL:https://sac-saas.ch/events/wanderung-aufs-simmelihorn/
SUMMARY:Wanderung aufs Simmelihorn / abgesagt
DESCRIPTION:Tour muss wegen Krankheit abgesagt werden\n\n\n\nAnmeldung mög
 lich ab:\n01.07.2023\, 07:00\n\n\nSchwierigkeit\nT3\n\n\nEckdaten\n ↑18
 00 Hm ↓ 1000 Hm -&gt\; 8 h\n\n\nAusrüstung\nGute Schuhe WetterAusrüstu
 ng Lunch genug zu Trinken\n\n\nTreffpunkt\nVisp Bahnhof\n\n\nTeilnehmerzah
 l\n8\n\n\n\n&nbsp\;
CATEGORIES:SAC Tour
END:VEVENT
BEGIN:VTIMEZONE
TZID:Europe/Zurich
X-LIC-LOCATION:Europe/Zurich
BEGIN:DAYLIGHT
DTSTART:20230326T030000
TZOFFSETFROM:+0100
TZOFFSETTO:+0200
TZNAME:CEST
END:DAYLIGHT
END:VTIMEZONE
END:VCALENDAR