BEGIN:VCALENDAR
VERSION:2.0
PRODID:-//wp-events-plugin.com//7.2.3.1//EN
TZID:Europe/Zurich
X-WR-TIMEZONE:Europe/Zurich
BEGIN:VEVENT
UID:480@sac-saas.ch
DTSTART;TZID=Europe/Zurich;VALUE=DATE:20260627
DTEND;TZID=Europe/Zurich;VALUE=DATE:20260629
DTSTAMP:20251123T190401Z
URL:https://sac-saas.ch/events/vrenelisgaertli-2026-anmeldung-ab-27-04-26/
SUMMARY:Vrenelisgärtli  2026 / Anmeldung ab 27.04.26
DESCRIPTION:\n\n\nAnmeldung ab:\n27.04.2026\n\n\nSchwierigkeit\nWS\n\n\nEck
 daten\nSa: ↑1100hm / So: ↑900hm ↓2000hm\n\n\nAusrüstung\nTourenausr
 üstung Sommer\, Funktionstüchtiges Bike\, Stirnlampe\, Hüttenschlafsack
 \n\n\nTreffpunkt\nWird noch bekannt gegeben\n\n\nTeilnehmerzahl\n3 Teilneh
 mer und 1 TL (Alessandro)\n\n\n\n&nbsp\;\n\n&nbsp\;\n\n&nbsp\;\n\n&nbsp\;\
 n\n&nbsp\;\n\n&nbsp\;\n\nDie Tour findet am Juni Wochenende vom 27.6 + 28.
 6.2026 statt.\n\n&nbsp\;\n\nInformationen zur Tour:\n\nSamstag: – Indivi
 duelle oder Gemeinsame Anreise nach Glarus\, Hinter Klöntal\n\n– Zustie
 g zur Glärnischhütte\, 4h Aufstieg 1100hm\n\n– Ausbildungssequenz\, je
  nach Zeit: Kurze Anwender-Tour um die Hütte\n\n– Übernachtung auf der
  Glärnischhütte\n\n&nbsp\;\n\nSonntag: – Gipfel Vrenelisgärtli\, Aufs
 tieg 900hm\n\n– Abstieg zur Glärnischhütte\, Abstieg 900hm\n\n– Geme
 insames Mittagessen auf der Glärnischhütte\n\n– Abstieg zurück ins Hi
 nter Klöntal\, Abstieg 1100hm\n\n– Kneippen im Klöntalersee\, Heimreis
 e\n\n\n\nDie Sage um das Vrenelisgärtli: Es war einmal ein übermütiges 
 junges Mädchen\, dass Vreni hiess. Das meinte\, es könne zuoberst auf de
 m mittleren Glärnisch einen Garten anlegen. Die Dorfbewohner hatten sie g
 ewarnt und gesagt: "Man darf den Herrgott nicht herausfordern!" Aber sie a
 ntwortete besserwissend: "Mag es dem Herrott gefallen oder nicht - ich geh
 e zu Trotz dort hinauf."\n\nDann stülpte das prächtig starke Mädchen ei
 nen grossen kupfernden Sennenkessel über den Kopf\, damit es nicht nass w
 ürde\, wenn es schneien sollte. Als sie aber oben ankam\, wurde der Schne
 efall so heftig\, dass sie den Kessel gar nicht mehr abziehen konnte. Der 
 schwere nasse Schnee drückte das Mädchen zu Boden. Das Mädchen wurde tr
 agisch ganz eingeschneit und man hat sie nie wieder gesehen.\n\nAuf dem mi
 ttleren Glärnisch sieht man immer noch ein kleines viereckiges Schneefeld
 . Die Leute sagen ihm Vrenelisgärtli\, eben weil die übermütige junge G
 ärtnerin darunter begraben liegt.\n\n&nbsp\;\n\nSpezielles: Der Hüttenzu
 stieg/-abstieg können mit dem Bike zeitlich abgekürzt werden.\n\nSchlech
 twetter: Ich werde mich bemühen ein Schlechtwetterprogramm für euch para
 t zu haben. Das Programm kann allfällige Abweichungen bezüglich Ort und 
 Unternehmung haben. Ich zähle auf eure Flexibilität.\n\nTeilnehmerbeding
 ungen: Grundkenntnisse von Vorteil / Kurse besucht von Vorteil / Kondition
  und Fitness sollten ausgelegt sein für einen Abstieg von 2000hm innert 1
 0 Stunden / Braucht nicht zwingend grosse Hochtourenerfahrung / Gletscher 
 Selbst- und Kameradenrettung müssen routiniert anwendbar sein\n\nNach abg
 eschlossenem Anmeldeprozedere:  Es wird eine Whatsapp-Chatgruppe geben mi
 t weiteren konkreten Informationen zur Tour.\n\nDa im Jahr August 2025 das
  Eidgenössische Schwinger und Älpler Fest (ESAF) in Mollis\, Kanton Glar
 us stattfand\, habe ich mich entschieden mal wieder in eine neue Region de
 r Schweiz zu besuchen. Auf dem Vrenelisgärtli hätte man sicher den höch
 sten Tribünenplatz unter den 56`000 Zuschauern gehabt \;-)\n\nIch freue m
 ich über eure Anmeldung!\n\nAlessandro
CATEGORIES:Hochtour,SAC Tour
END:VEVENT
BEGIN:VTIMEZONE
TZID:Europe/Zurich
X-LIC-LOCATION:Europe/Zurich
BEGIN:DAYLIGHT
DTSTART:20260329T030000
TZOFFSETFROM:+0100
TZOFFSETTO:+0200
TZNAME:CEST
END:DAYLIGHT
END:VTIMEZONE
END:VCALENDAR