BEGIN:VCALENDAR
VERSION:2.0
PRODID:-//wp-events-plugin.com//7.2.3.1//EN
TZID:Europe/Zurich
X-WR-TIMEZONE:Europe/Zurich
BEGIN:VEVENT
UID:27@sac-saas.ch
DTSTART;TZID=Europe/Zurich;VALUE=DATE:20230929
DTEND;TZID=Europe/Zurich;VALUE=DATE:20230930
DTSTAMP:20230926T042418Z
URL:https://sac-saas.ch/events/vollmondwanderung/
SUMMARY:Vollmondwanderung / Anmeldung ab 29.08.2023
DESCRIPTION:Eine Vollmondwanderung ist ein Abenteuer für die Sinne. Wir ne
 hmen die Geräusche der Natur viel intensiver wahr und dürfen in sanftem 
 Licht die Konturen der Umgebung auf uns wirken lassen - im Mondschein auf 
 einen «Berg» wandern\, ist etwas besonders.\n\n\n\nAnmeldung möglich ab
 :\n29.08.2023\, 07:00\n\n\nSchwierigkeit\nT3\n\n\nEckdaten\n ↑ 700Hm  
 ↓ 700Hm -&gt\; 4 h\n\n\nAusrüstung\nadäquate Wanderausrüstung\, gute 
 Bergschuhe\, Abendessen\n\n\nTreffpunkt\nBrig Bahnhof 17:00 Uhr\n\n\nTeiln
 ehmerzahl\n6 plus TL\n\n\n\n&nbsp\;
CATEGORIES:SAC Tour
END:VEVENT
BEGIN:VTIMEZONE
TZID:Europe/Zurich
X-LIC-LOCATION:Europe/Zurich
BEGIN:DAYLIGHT
DTSTART:20230326T030000
TZOFFSETFROM:+0100
TZOFFSETTO:+0200
TZNAME:CEST
END:DAYLIGHT
END:VTIMEZONE
END:VCALENDAR