BEGIN:VCALENDAR
VERSION:2.0
PRODID:-//wp-events-plugin.com//7.2.3.1//EN
TZID:Europe/Zurich
X-WR-TIMEZONE:Europe/Zurich
BEGIN:VEVENT
UID:468@sac-saas.ch
DTSTART;TZID=Europe/Zurich;VALUE=DATE:20251205
DTEND;TZID=Europe/Zurich;VALUE=DATE:20251206
DTSTAMP:20251007T181426Z
URL:https://sac-saas.ch/events/vollmondtour-dezember/
SUMMARY:Tour im 'kalten Vollmond' / Anmeldung ab 01.10.2025
DESCRIPTION:Region Simplon - Komm mit auf eine besondere Wanderung in die N
 acht. Wir lassen den Alltag hinter uns\, genießen die Ruhe und spüren di
 e Natur mit all unseren Sinnen. Ob der Vollmond den Weg erhellt oder Wolke
 n den Himmel verhüllen – die besondere Atmosphäre dieser Stunden bleib
 t.\nOb herbstliche Kühle oder winterliche Frische – wir lassen uns übe
 rraschen.\n\n\n\n\n\n\n\n\nSchwierigkeit\nT2/T3\n\n\nEckdaten\nca. 700 hm\
 n\n\nAusrüstung\nWanderausrüstung der Jahreszeit angepasst (-:\, Sitzunt
 erlage und Stirnlampe\n\n\nTreffpunkt\nBrig Bahnhof  - ca. 20:00 Uhr - ge
 naue Zeit wird noch bekannt gegeben\n\n\nTeilnehmerzahl\n6 plus TL\n\n\n\n
 &nbsp\;
ATTACH;FMTTYPE=image/jpeg:https://sac-saas.ch/wp-content/uploads/Bild5.png
CATEGORIES:Alpine Wanderung,SAC Tour
END:VEVENT
BEGIN:VTIMEZONE
TZID:Europe/Zurich
X-LIC-LOCATION:Europe/Zurich
BEGIN:STANDARD
DTSTART:20251026T020000
TZOFFSETFROM:+0200
TZOFFSETTO:+0100
TZNAME:CET
END:STANDARD
END:VTIMEZONE
END:VCALENDAR