BEGIN:VCALENDAR
VERSION:2.0
PRODID:-//wp-events-plugin.com//7.2.3.1//EN
TZID:Europe/Zurich
X-WR-TIMEZONE:Europe/Zurich
BEGIN:VEVENT
UID:399@sac-saas.ch
DTSTART;TZID=Europe/Zurich;VALUE=DATE:20250313
DTEND;TZID=Europe/Zurich;VALUE=DATE:20250314
DTSTAMP:20250223T182932Z
URL:https://sac-saas.ch/events/vollmond-winterwanderung-mattmark-anmeldung
 -ab-14-02-2025/
SUMMARY:Vollmond Winterwanderung Mattmark / NEU 13.3.25 statt 14.3.25
DESCRIPTION:Vollmond Wanderung nach Mattmark mit ein Glas Glühwein!\n\n\n\
 nAnmeldung ab:\n14.02.2025\n\n\nSchwierigkeit\nWT2\n\n\nEckdaten\n14km 540
 +/-\n\n\nAusrüstung\nWinterwander Ausrüstung und Verpflegung\n\n\nTreffp
 unkt\n\n\n\nTeilnehmerzahl\n10\n\n\n\n&nbsp\;
CATEGORIES:SAC Tour,Wanderung
END:VEVENT
BEGIN:VTIMEZONE
TZID:Europe/Zurich
X-LIC-LOCATION:Europe/Zurich
BEGIN:STANDARD
DTSTART:20241027T020000
TZOFFSETFROM:+0200
TZOFFSETTO:+0100
TZNAME:CET
END:STANDARD
END:VTIMEZONE
END:VCALENDAR