BEGIN:VCALENDAR
VERSION:2.0
PRODID:-//wp-events-plugin.com//7.2.3.1//EN
TZID:Europe/Zurich
X-WR-TIMEZONE:Europe/Zurich
BEGIN:VEVENT
UID:197@sac-saas.ch
DTSTART;TZID=Europe/Zurich;VALUE=DATE:20240125
DTEND;TZID=Europe/Zurich;VALUE=DATE:20240126
DTSTAMP:20240122T183109Z
URL:https://sac-saas.ch/events/vollmond-schneeschuhtour/
SUMMARY:Vollmond Schneeschuhtour - 1 Platz frei gekommen
DESCRIPTION:Schöne kleine Schneeschuh Wanderung bei Gspon und ein warmes G
 lühwein unterwegs\n\n\n\nAnmeldung möglich ab:\n20.12.2023\n\n\nSchwieri
 gkeit\nWT2\n\n\nEckdaten\n↑ 220  ↓ 220.      4km \n\n\nAusrüstun
 g\nWinterausrüstung\n\n\nTreffpunkt\nStalden-Saas Bahnhof\n\n\nTeilnehmer
 zahl\n8\n\n\n\n&nbsp\;
CATEGORIES:SAC Tour
END:VEVENT
BEGIN:VTIMEZONE
TZID:Europe/Zurich
X-LIC-LOCATION:Europe/Zurich
BEGIN:STANDARD
DTSTART:20231029T020000
TZOFFSETFROM:+0200
TZOFFSETTO:+0100
TZNAME:CET
END:STANDARD
END:VTIMEZONE
END:VCALENDAR