BEGIN:VCALENDAR
VERSION:2.0
PRODID:-//wp-events-plugin.com//7.2.3.1//EN
TZID:Europe/Zurich
X-WR-TIMEZONE:Europe/Zurich
BEGIN:VEVENT
UID:54@sac-saas.ch
DTSTART;TZID=Europe/Zurich;VALUE=DATE:20230617
DTEND;TZID=Europe/Zurich;VALUE=DATE:20230619
DTSTAMP:20230523T042858Z
URL:https://sac-saas.ch/events/uri-for-beginners/
SUMMARY:Uri for beginners / Anmeldung ab 18.04.2023
DESCRIPTION:Tour ausgebucht. Wir gehen zu 3.\n\n\n\nAnmeldung möglich ab:\
 n18.04.2023\, 07:00\n\n\nSchwierigkeit\nSa: K2 / So: 3c\n\n\nEckdaten\n 2
 x ↑ 800 Hm  ↓ 800 Hm\n\n\nAusrüstung\nHochtourenausrüstung\, Hütte
 nschlafsack\n\n\nTreffpunkt\n0700 Furkapass\n\n\nTeilnehmerzahl\n4 TN + 1 
 SF\n\n\n\n&nbsp\;\n\n&nbsp\;\n\n&nbsp\;\n\nSamstag:\nAnreise Furkapass\nWa
 nderung zur Sidelenhütte\nCafé + Theorieblock\nSidelengletscher + Klette
 rsteig Obere Bielenlücke + Tiefengletscher\n\nÜbernachtung: Albert Heim 
 Hütte (6 Personen)\n\nSonntag:\nStrahlengrätli\nRückwanderung zum Auto\
 nRückreise
CATEGORIES:SAC Tour
END:VEVENT
BEGIN:VTIMEZONE
TZID:Europe/Zurich
X-LIC-LOCATION:Europe/Zurich
BEGIN:DAYLIGHT
DTSTART:20230326T030000
TZOFFSETFROM:+0100
TZOFFSETTO:+0200
TZNAME:CEST
END:DAYLIGHT
END:VTIMEZONE
END:VCALENDAR