BEGIN:VCALENDAR
VERSION:2.0
PRODID:-//wp-events-plugin.com//7.2.3.1//EN
TZID:Europe/Zurich
X-WR-TIMEZONE:Europe/Zurich
BEGIN:VEVENT
UID:56@sac-saas.ch
DTSTART;TZID=Europe/Zurich;VALUE=DATE:20230903
DTEND;TZID=Europe/Zurich;VALUE=DATE:20230904
DTSTAMP:20230822T115534Z
URL:https://sac-saas.ch/events/uri-for-beginners-copy/
SUMMARY:Klettern am Luzerner Hausberg / Anmeldeschluss Mittwoch 30.08.23
DESCRIPTION:&nbsp\;\n\n\n\nAnmeldung möglich ab:\n03.08.2023\, 07:00\n\n\n
 Schwierigkeit\n4c\n\n\nEckdaten\n↑ 600Hm\n\n\nAusrüstung\nMSL Ausrüstu
 ng\, Halbtax\n\n\nTreffpunkt\n0900 Alpnachstad\n\n\nTeilnehmerzahl\n4 TN +
  1 SF\n\n\n\nAnmeldeschluss Mittwoch 30.08.23\n\n&nbsp\;\n\n&nbsp\;\n\nAnr
 eise nach Luzern - Alpnachstad\, historische Pilatusbahn nach Ämsigen\nKl
 ettern der vier Galtigentürme MSL\nWanderung zum Gipfelhaupt Esel\nPilatu
 s Kulm Aufenthalt\nSeilbahn nach Kriens\, Luzern\n\n&nbsp\;
CATEGORIES:SAC Tour
END:VEVENT
BEGIN:VTIMEZONE
TZID:Europe/Zurich
X-LIC-LOCATION:Europe/Zurich
BEGIN:DAYLIGHT
DTSTART:20230326T030000
TZOFFSETFROM:+0100
TZOFFSETTO:+0200
TZNAME:CEST
END:DAYLIGHT
END:VTIMEZONE
END:VCALENDAR