BEGIN:VCALENDAR
VERSION:2.0
PRODID:-//wp-events-plugin.com//7.2.3.1//EN
TZID:Europe/Zurich
X-WR-TIMEZONE:Europe/Zurich
BEGIN:VEVENT
UID:55@sac-saas.ch
DTSTART;TZID=Europe/Zurich;VALUE=DATE:20230826
DTEND;TZID=Europe/Zurich;VALUE=DATE:20230828
DTSTAMP:20230820T175848Z
URL:https://sac-saas.ch/events/uri-for-beginners-copy-2/
SUMMARY:Uri plasir / Anmeldung bis 18.08.23
DESCRIPTION:&nbsp\;\n\n\n\nAnmeldung möglich ab:\n27.06.2023\, 07:00\n\n\n
 Schwierigkeit\nSa: K3/ So: 3a\n\n\nEckdaten\n Sa: ↑ 1000 Hm  ↓ 500 H
 m / So: ↑ 1200 Hm  ↓ 2700 Hm\n\n\nAusrüstung\nKlettersteigset\, Hoch
 tourenausrüstung\, Gletscherausrüstung\, Hüttenschlafsack\, Halbtax Abo
 \n\n\nTreffpunkt\n10:00 Uhr in Engelberg\n\n\nTeilnehmerzahl\n4 TN + 1 SF\
 n\n\n\nAnmeldung noch möglich bis 18.08.23!\n\n1 TN:in hat noch Platz \n
 \n&nbsp\;\n\n&nbsp\;\n\nSamstag:\nAnreise Öv nach Engelberg\nDanach werde
 n wir einen Abstecher ins „Brunni“ per Seilbahn machen.\nDort machen w
 ir den Klettersteig „Rigidalstockgrat“. Dauer und Schwierigkeit liegt 
 im mittleren Bereich :-) es soll ja plasir sein!\n\nAnschliessend Wanderun
 g zur Spannorthütte\n\nÜbernachtung: Spannorthütte (6 Personen Total)\n
 \nSonntag: „Schlossberglücke“ und Normalroute zum Gipfel „Gross Spa
 nnort“\nAbstieg via Glattfirn zur Kröntenhütte\, weiter nach Erstfeld\
 nRückreise ÖV
CATEGORIES:SAC Tour
END:VEVENT
BEGIN:VTIMEZONE
TZID:Europe/Zurich
X-LIC-LOCATION:Europe/Zurich
BEGIN:DAYLIGHT
DTSTART:20230326T030000
TZOFFSETFROM:+0100
TZOFFSETTO:+0200
TZNAME:CEST
END:DAYLIGHT
END:VTIMEZONE
END:VCALENDAR