BEGIN:VCALENDAR
VERSION:2.0
PRODID:-//wp-events-plugin.com//7.2.3.1//EN
TZID:Europe/Zurich
X-WR-TIMEZONE:Europe/Zurich
BEGIN:VEVENT
UID:452@sac-saas.ch
DTSTART;TZID=Europe/Zurich;VALUE=DATE:20250125
DTEND;TZID=Europe/Zurich;VALUE=DATE:20250126
DTSTAMP:20250121T122246Z
URL:https://sac-saas.ch/events/uiaa-ice-climbing-world-cup-2025-samstag/
SUMMARY:UIAA Ice Climbing World Cup 2025\, Samstag 25.01.2025 Helfer komple
 tt\,danke!
DESCRIPTION:Wir werden wieder helfen bei der Aufsicht des Transfer Isolatio
 n (Samstag) und eventuell noch bei weiteren Jobs (Türsteher) die wir hier
  auf der Homepage dann ausschreiben.\n\nWir danken allen Freiwilligen die 
 sich bereit erklären\, einen Job zu übernehmen. Auch dankt der Verein Ic
 e Climbing Saas-Fee recht herzlich\, dass die Mitglieder des SAC Saas auch
  in diesem Jahr wiederum den Event unterstützen\, dass der Anlass auch be
 i der 25. Austragung zum Erfolg wird.\n\nJeder Helfer profitiert von folge
 nden Vorteilen (Anmeldung und Abholung der Sachen beim Haupteingang im Lev
 el 9/10)\n\n&nbsp\;\nWettkampfprogramm Samstag\, 25.01.2025\n08:00 - 09:00
   Isolation Zone Open-Close für Halbfinal\n10:15 - 10:30  Route Besicht
 igung Frauen&amp\;Männer\n11:00 - 14:00  Lead Halb-Final Frauen und Män
 ner (parallel)\n17:15 - 17:30 Isolation Zone Open-Close für Final\n18:15 
 - 18:30 Route Besichtigung Frauen\n18:30 - 18:45 Route Besichtigung Männe
 r\nAb 19:00  Finale Frauen und Männer (einzeln abwechselnd)\n\nAnschlies
 send Preisverteilung und Ice Party\n\n&nbsp\;\nIsolationszone\, Samstag 25
 .01.2025\nAm Samstag sind 3-5 Personen zuständig für die Isolationszone.
  1 Person ist immer in der Isolationszone und 2 Personen machen den Transf
 er der Athleten. Innerhalb der Schicht könnt ihr euch untereinander abspr
 echen/abwechseln. Während der Isolation dürfen die Athleten die Zone nic
 ht verlassen. Die Regeln was die Athleten dürfen oder nicht wird euch die
  Jury bekannt geben.  Die Person in der Isolationszone ist auch zuständi
 g für die Kontrolle und Auffüllen der Getränke/Essen. Die erste Schicht
  soll schauen\, das gute aufgeräumt ist bevor es los geht.\n\nDie 5 Perso
 nen können sich ein bisschen abwechseln. Bis 11Uhr reichen 2 Leute\, ansc
 hliessend klettern Frauen und Männer Parallel. Zwischen 11-14Uhr finden d
 ie Halbfinals statt und somit der Transfer der Athletinnen.\n\n&nbsp\;\n\n
 Schicht: 08:00 - 14:00     Geraldine Steiner  ab 08.00Uhr      /  
  Michael Steiner ab 08.00Uhr  /  Laura Steiner ab 10.30Uhr\n\nMatteo St
 einer  ab 10.30Uhr / Samuel ab 10.30Uhr\n\n&nbsp\;\n\nFür den Final reic
 hen 3 Leute (1 im Isoraum\, 1 Transfer\, 1 im Vorraum). Finals beginnen ab
  19Uhr.\n\nSchicht: 17:00 - ca.21:30      Marc Briggeler (ab 17Uhr)  
      /   Lars Suter (ab 17Uhr)  /  Diana Zurbriggen (ab 18.00Uhr)\n
 \nTreffpunkt ist im Isolationszelt. Bitte findet euch kurz vor der Schicht
  dort ein und lasst euch von den Vorgänger instruieren.  Bei der Anmeldu
 ng angeben für was und welche Schicht ihr euch interessiert (Handynummer 
 angeben bitte). Die Schichten werden dann laufend in der Tabelle nachgetra
 gen. Für weitere Infos und Koordination bezüglich Isolationszone wendet 
 euch an Marc Briggeler 077 529 29 77.\n\n&nbsp\;\n\nTürsteher\, Samstag 2
 5.1.2025\n\nSchicht: 17:30 – 22:00          Simone&amp\;Jan Knepper
 \n\nInfo/Koordination Kurt Arnold 079 433 15 64\n\n&nbsp\;
CATEGORIES:SAC Tour
END:VEVENT
BEGIN:VTIMEZONE
TZID:Europe/Zurich
X-LIC-LOCATION:Europe/Zurich
BEGIN:STANDARD
DTSTART:20241027T020000
TZOFFSETFROM:+0200
TZOFFSETTO:+0100
TZNAME:CET
END:STANDARD
END:VTIMEZONE
END:VCALENDAR