BEGIN:VCALENDAR
VERSION:2.0
PRODID:-//wp-events-plugin.com//7.2.3.1//EN
TZID:Europe/Zurich
X-WR-TIMEZONE:Europe/Zurich
BEGIN:VEVENT
UID:357@sac-saas.ch
DTSTART;TZID=Europe/Zurich;VALUE=DATE:20250905
DTEND;TZID=Europe/Zurich;VALUE=DATE:20250906
DTSTAMP:20250301T191418Z
URL:https://sac-saas.ch/events/ueberschreitung-taeschehorn-risihorn-anmeld
 ung-ab-01-07-2025/
SUMMARY:Abgesagt - Überschreitung Täschehorn - Risihorn / Anmeldung ab 01
 .07.2025
DESCRIPTION:Evtl. klappt es im 2026 - bin im 2025 von April bis Ende Oktobe
 r in Korsika.\nNur wenige Minuten nach der Bergstation Furggulti tauchen w
 ir in eine andere Welt ein. Der Pfad zum Täschehorn schlängelt sich durc
 h eine bunte Gesteinslandschaft\, wo grünlich-gelbe Flechten die Felsen s
 chmücken und klare Bergseen wie Edelsteine funkeln. Zwischen Täschehorn 
 und Risihorn eröffnet sich ein Panorama\, das die Wannenhörner\, das Fin
 steraarhorn und den Fieschergletscher umfasst. Im Blockschuttgelände hei
 ßt es: kurz innehalten\, tief durchatmen und die atemberaubende Aussicht 
 genießen!\n\n\n\n\n\n\n\n\nSchwierigkeit\nT4+\n\n\nEckdaten\nBergwanderun
 g 560 hm\n\n\nAusrüstung\nWanderausrüstung - gute Wanderschuhe (-:\, Ver
 pflegung und evtl. Badesachen\n\n\nTreffpunkt\nBrig Bahnhof - genaue Zeit 
 wird noch bekannt gegeben\n\n\nTeilnehmerzahl\n4 plus TL\n\n\n\n
CATEGORIES:Alpine Wanderung,Bergtour,SAC Tour
END:VEVENT
BEGIN:VTIMEZONE
TZID:Europe/Zurich
X-LIC-LOCATION:Europe/Zurich
BEGIN:DAYLIGHT
DTSTART:20250330T030000
TZOFFSETFROM:+0100
TZOFFSETTO:+0200
TZNAME:CEST
END:DAYLIGHT
END:VTIMEZONE
END:VCALENDAR