BEGIN:VCALENDAR
VERSION:2.0
PRODID:-//wp-events-plugin.com//7.2.3.1//EN
TZID:Europe/Zurich
X-WR-TIMEZONE:Europe/Zurich
BEGIN:VEVENT
UID:519@sac-saas.ch
DTSTART;TZID=Europe/Zurich;VALUE=DATE:20260809
DTEND;TZID=Europe/Zurich;VALUE=DATE:20260810
DTSTAMP:20260222T155142Z
URL:https://sac-saas.ch/events/ueberschreitung-emshorn-nach-bella-tola-anm
 eldung-ab-08-07-26/
SUMMARY:Überschreitung Emshorn nach Bella Tola / Anmeldung ab 08.07.26
DESCRIPTION:Überschreitung Emshorn-Brunnethorn-Borterhorn-Bella Tola\n\n\n
 \nAnmeldung ab:\n08.07.26\n\n\nSchwierigkeit\nT5\n\n\nEckdaten\n1900 Hm ra
 uf und 1050 Hm runter\n\n\nAusrüstung\nWanderausrüstung und genug zum Tr
 inken\n\n\nTreffpunkt\nOberems\, gegen 07:00 Uhr\n\n\nTeilnehmerzahl\n10\n
 \n\n\n&nbsp\;
CATEGORIES:Alpine Wanderung,SAC Tour
END:VEVENT
BEGIN:VTIMEZONE
TZID:Europe/Zurich
X-LIC-LOCATION:Europe/Zurich
BEGIN:DAYLIGHT
DTSTART:20260329T030000
TZOFFSETFROM:+0100
TZOFFSETTO:+0200
TZNAME:CEST
END:DAYLIGHT
END:VTIMEZONE
END:VCALENDAR