BEGIN:VCALENDAR
VERSION:2.0
PRODID:-//wp-events-plugin.com//7.2.3.1//EN
TZID:Europe/Zurich
X-WR-TIMEZONE:Europe/Zurich
BEGIN:VEVENT
UID:411@sac-saas.ch
DTSTART;TZID=Europe/Zurich;VALUE=DATE:20250726
DTEND;TZID=Europe/Zurich;VALUE=DATE:20250727
DTSTAMP:20250725T173243Z
URL:https://sac-saas.ch/events/ueberschreitung-emshorn-bella-tola-anmeldun
 g-ab-26-06-25/
SUMMARY:ABGESAGT wegen Wetter Überschreitung Emshorn-Bella Tola / Anmeldun
 g ab 26.06.25
DESCRIPTION:Überschreitung von Oberems aus: Emshorn-Brunnethorn-Borterhorn
 -Bella Tola\n\n\n\nAnmeldung ab:\n26.06.25\n\n\nSchwierigkeit\nT5\n\n\nEck
 daten\n1900 hm rauf und 1000 hm runter\n\n\nAusrüstung\nGute Wanderausrü
 stung\n\n\nTreffpunkt\nOberems\, Zeit wird später bekannt gegeben\n\n\nTe
 ilnehmerzahl\n6\n\n\n\n&nbsp\;
CATEGORIES:SAC Tour
END:VEVENT
BEGIN:VTIMEZONE
TZID:Europe/Zurich
X-LIC-LOCATION:Europe/Zurich
BEGIN:DAYLIGHT
DTSTART:20250330T030000
TZOFFSETFROM:+0100
TZOFFSETTO:+0200
TZNAME:CEST
END:DAYLIGHT
END:VTIMEZONE
END:VCALENDAR