BEGIN:VCALENDAR
VERSION:2.0
PRODID:-//wp-events-plugin.com//7.2.3.1//EN
TZID:Europe/Zurich
X-WR-TIMEZONE:Europe/Zurich
BEGIN:VEVENT
UID:42@sac-saas.ch
DTSTART;TZID=Europe/Zurich;VALUE=DATE:20230618
DTEND;TZID=Europe/Zurich;VALUE=DATE:20230619
DTSTAMP:20230415T125022Z
URL:https://sac-saas.ch/events/ueberschreitung-chli-und-gross-leckihorn/
SUMMARY:Überschreitung Chli und Gross Leckihorn / Anmeldung ab 18.05.2023
DESCRIPTION:Von Realp mit Auto bis Oberstafel (2221m) -Rotondohütte-Witenw
 assergletscher-Witenwasserpass bis zum Beginn des Südostgrats vom Chli Le
 ckihorn. Luftige Kletterei über das Chli- und Gross Leckihorn. Abstieg ü
 ber den Nordgrat zum Leckipass-zurück über Rotondohütte bis nach Oberst
 afel.\n\n\n\nAnmeldung möglich ab:\n18.05.2023\, 07:00\n\n\nSchwierigkeit
 \nWS\, 3c\n\n\nEckdaten\n ↑ 800 Hm  ↓ 800 Hm\, ca. +/- 7 Std.\n\n\nA
 usrüstung\nInfos folgen\n\n\nTreffpunkt\n\n\n\nTeilnehmerzahl\n6 incl Sim
 one und Francine\n\n\n\n&nbsp\;
CATEGORIES:SAC Tour
END:VEVENT
BEGIN:VTIMEZONE
TZID:Europe/Zurich
X-LIC-LOCATION:Europe/Zurich
BEGIN:DAYLIGHT
DTSTART:20230326T030000
TZOFFSETFROM:+0100
TZOFFSETTO:+0200
TZNAME:CEST
END:DAYLIGHT
END:VTIMEZONE
END:VCALENDAR