BEGIN:VCALENDAR
VERSION:2.0
PRODID:-//wp-events-plugin.com//7.2.3.1//EN
TZID:Europe/Zurich
X-WR-TIMEZONE:Europe/Zurich
BEGIN:VEVENT
UID:352@sac-saas.ch
DTSTART;TZID=Europe/Zurich;VALUE=DATE:20240218
DTEND;TZID=Europe/Zurich;VALUE=DATE:20240219
DTSTAMP:20240215T173632Z
URL:https://sac-saas.ch/events/ueberraschungs-skitour-ersatztour-fuer-abge
 sagte-skitour-tschawinerhorn-anmeldung-ab-12-02-2024/
SUMMARY:Verschoben - Überraschungs-Skitour - Ersatztour für abgesagte Ski
 tour Tschawinerhorn/ Anmeldung ab 12.02.2024
DESCRIPTION:Text\n\n\n\nAnmeldung ab\n12.02.2024\n\n\nSchwierigkeit\nWS+\n\
 n\nEckdaten\nca. 1200-1500 HM\n\n\nAusrüstung\nSkitour komplett\n\n\nTref
 fpunkt\nwird am Freitag 16.02.2024 um 17:00 publiziert\n\n\nTeilnehmerzahl
 \n6 inkl TL\n\n\n\n&nbsp\;
CATEGORIES:SAC Tour,Skitour
END:VEVENT
BEGIN:VTIMEZONE
TZID:Europe/Zurich
X-LIC-LOCATION:Europe/Zurich
BEGIN:STANDARD
DTSTART:20231029T020000
TZOFFSETFROM:+0200
TZOFFSETTO:+0100
TZNAME:CET
END:STANDARD
END:VTIMEZONE
END:VCALENDAR