BEGIN:VCALENDAR
VERSION:2.0
PRODID:-//wp-events-plugin.com//7.2.3.1//EN
TZID:Europe/Zurich
X-WR-TIMEZONE:Europe/Zurich
BEGIN:VEVENT
UID:396@sac-saas.ch
DTSTART;TZID=Europe/Zurich;VALUE=DATE:20250405
DTEND;TZID=Europe/Zurich;VALUE=DATE:20250406
DTSTAMP:20250304T222322Z
URL:https://sac-saas.ch/events/tunnelspitz-2902-m-simplon-anmeldung-ab-05-
 03-2025/
SUMMARY:Tunnelspitz 2902 m Simplon / Anmeldung ab 09.03.2025
DESCRIPTION:&nbsp\;\n\n\n\nAnmeldung ab:\n09.03.2024\n\n\nSchwierigkeit\nZS
  +\n\n\nEckdaten\n1800 hm\n\n\nAusrüstung\nSkitourenausrüstung\, Kopflam
 pe\, Harscheisen\, Steigeisen\, Steigeisen\, Klettergurt\n\n\nTreffpunkt\n
 Simplonpass 4.30 Uhr\n\n\nTeilnehmerzahl\n5\n\n\n\nMuss die Tour leider ve
 rschieben. Weitere Infos folgen bis am 09.03
CATEGORIES:SAC Tour
END:VEVENT
BEGIN:VTIMEZONE
TZID:Europe/Zurich
X-LIC-LOCATION:Europe/Zurich
BEGIN:DAYLIGHT
DTSTART:20250330T030000
TZOFFSETFROM:+0100
TZOFFSETTO:+0200
TZNAME:CEST
END:DAYLIGHT
END:VTIMEZONE
END:VCALENDAR