BEGIN:VCALENDAR
VERSION:2.0
PRODID:-//wp-events-plugin.com//7.2.3.1//EN
TZID:Europe/Zurich
X-WR-TIMEZONE:Europe/Zurich
BEGIN:VEVENT
UID:76@sac-saas.ch
DTSTART;TZID=Europe/Zurich;VALUE=DATE:20230311
DTEND;TZID=Europe/Zurich;VALUE=DATE:20230320
DTSTAMP:20230114T114101Z
URL:https://sac-saas.ch/events/transalp-brenner-heiligenblut/
SUMMARY:Transalp Brenner-Heiligenblut / Anmeldung ab 02.11.2022
DESCRIPTION:Transalpetappe Brenner - Heiligenblut\n\nDie Tour ist ausgebuch
 t!!!!\n\nWeiter geht es mit unserem spannenden Projekt. Jedes Jahr nähern
  wir uns ein klein wenig dem östlichen Ende der Alpen und schlussendlich 
 auch Wien unserem Zielort. Dieses Jahr durchqueren wir die Zillertaler Alp
 en und das Osttirol mit dem Grossglockner.\n\n1. Tag Anreise nach St. Jodo
 k am Brenner\, Übernachtung im Geraerhof\n\n2.Tag Flittneralm zuhinderst 
 im Valstal 1345m - Alpeinscharte 2959m - Breitlahner 1256m (1650Hm) weiter
  mit dem Taxi zur Finkau beim Gerlosspass\, Übernachtung im Familienhotel
  Finkau\n\n3.Tag Finkau 1420m - Rosskarscharte 2689m - Krimmler Tauernhaus
  1622m (1270Hm)\n\n4.Tag Krimmler Tauernhaus 1622m - Gamsspitz 2888m - Kü
 rsingerhütte 2548m (1540Hm)\n\n5.Tag Kürsingerhütte 2548m Gross Venedig
 er 3657m - Matreier Tauernhaus 1511m (1110Hm)\n\n6.Tag Matreier Tauernhaus
  1511m - Sillingskopf 2858m - Granatscharte 2945m - Rudolfshütte 2311m (1
 700Hm)\n\n7.Tag Rudolfshütte 2311m - Kalser Tauern 2515m - Kals 1335m - T
 axi zum Lucknerhaus 1920m - Stüdlhütte 2820m (1100Hm)\n\n8.Tag Stüdlhü
 tte - Grossglockner 3798m - Heiligenblut 1250m (980Hm)\n\n9.Tag Heimreise\
 n\nKosten: Führerkosten\, 1/2 Pension\, Taxi.  bei 6 Pers. 1750.- / bei 
 8Pers 1590.-\n\nDie Hin- und Rückfahrtsticket sind nicht inklusive da es 
 individuelle Ermässigungen gibt.\n\n&nbsp\;\n\nAnmeldung bis zum 15.12.20
 22\n\nEine Anmeldung ist verbindlich. Eine Annulationsversicherung wird em
 pfohlen.\n\nIch freue mich riesig an diesem spannenden Projekt weiter mitm
 achen zu dürfen.\n\nGabriel Voide\n\n079 698 60 65\n\n\n\nAnmeldung mögl
 ich ab:\n02.11.2022\, 07:00\n\n\nSchwierigkeit\nklassische Skitouren\n\n\n
 Eckdaten\nbis max. ca. 1800Hm pro Tag\n\n\nAusrüstung\nkomplette alpine S
 kitourenausrüstung\, Infos folgen\n\n\nTreffpunkt\n\n\n\nTeilnehmerzahl\n
 8\n\n\n\n&nbsp\;
CATEGORIES:SAC Tour,Skitour
END:VEVENT
BEGIN:VTIMEZONE
TZID:Europe/Zurich
X-LIC-LOCATION:Europe/Zurich
BEGIN:STANDARD
DTSTART:20221030T020000
TZOFFSETFROM:+0200
TZOFFSETTO:+0100
TZNAME:CET
END:STANDARD
END:VTIMEZONE
END:VCALENDAR