BEGIN:VCALENDAR
VERSION:2.0
PRODID:-//wp-events-plugin.com//7.2.3.1//EN
TZID:Europe/Zurich
X-WR-TIMEZONE:Europe/Zurich
BEGIN:VEVENT
UID:401@sac-saas.ch
DTSTART;TZID=Europe/Zurich;VALUE=DATE:20250215
DTEND;TZID=Europe/Zurich;VALUE=DATE:20250224
DTSTAMP:20241005T022215Z
URL:https://sac-saas.ch/events/transalp-2025-anmeldung-ab-03-10-2024/
SUMMARY:Transalp  2025 Letzte Etappe nach Wien!!!  Anmeldung ab 03.10.2024
DESCRIPTION:Transalpetappe 2025 Rottenmann - Wien\n\nDiesen Winter dürfen 
 wir auf unsere letzte Transalpetappe nach Wien aufbrechen und somit die 20
 16 angefangene Reise quer durch die Alpen abschliessen.\n\nEs stehen noch 
 einige zackige Aufstiege auf dem Programm welche uns aber nur knapp über 
 2000 Meter über Meer führen werden. Ebenfalls werden wir es uns nicht en
 tgehen lassen einige "rassige" Schwünge in den östlichen Schnee zu ziehe
 n!! Über die Gebirge des Hochschwabs und des Schneebergs erreichen wir Pu
 chberg und somit die östlichsten Ausläufer der Alpen.\n\nVon Puchberg we
 rden wir mit dem Radl nach Wien zum Prater fahren um dort gemeinsam anzust
 ossen und einen fröhlichen Abend zu verbringen...\n\n1. Tag Kaiserau - M
 ödlingerhütte - Leobner - Radmer 1950 Hm\n\n2.Tag Radmer - Radmerhals - 
 Eisenerz - Frauenmauerhöhle - Sonnschienhütte 1915 Hm\n\n3.Tag Sonnschie
 nhütte - Hochschwab - Seebergalm 1027 Hm\n\n4.Tag Seebergalm - Hohe Veits
 ch - Mürzsteg 1260 Hm\n\n5.Tag Mürzsteg - Schneealpe - Heukuppe - Raxalp
  1970 Hm\n\n6.Tag Raxalp - Edelweisshütte - Grosser Kesselgraben - Heinri
 ch Krempelhütte - Schneeberg - Edelweisshütte 1870 Hm\n\n7.Tag Edelweiss
 hütte - Abfahrt nach Puchberg - umsteigen auf's Radl - Wien 80km\n\nEinma
 l mehr freue ich mich sehr auf dieses letzte Transalp-Abenteuer.\n\nInbegr
 iffen im Preis: Bergführer\, Halbpension\, Taxitransporte\, Fahrrad\, Gep
 äcktransport\n\nNicht Inbegriffen: Zugreisen und Nachtessen in Wien\, Get
 ränke\n\nBei 6 Personen: 1840.-\n\nIch empfehle eine Annulationskostenver
 sicherung.\n\nAnmeldung bis zum 30. November 2025\n\nUm mir die Reservatio
 nen enorm zu vereinfachen\, bin ich sehr dankbar die Anmeldungen so früh 
 als möglich zu erhalten.\n\n&nbsp\;\n\nGanz en liäbe Grüöss an alli\n\
 nVoide Gabriel\n\n079 698 60 65\n\n\n\nAnmeldung ab:\nSofort\n\n\nSchwieri
 gkeit\nbis zu 1900 Hm\n\n\nEckdaten\nklassische Skitouren\n\n\nAusrüstung
 \nwird kurz vor Beginn der Tour kommuniziert\n\n\nTreffpunkt\nBahnhof Visp
 . Fahrplan steht noch nicht fest\n\n\nTeilnehmerzahl\nGabriel und 9 TN\n\n
 \n\n&nbsp\;\n\n&nbsp\;
CATEGORIES:SAC Tour,Skitour
END:VEVENT
BEGIN:VTIMEZONE
TZID:Europe/Zurich
X-LIC-LOCATION:Europe/Zurich
BEGIN:STANDARD
DTSTART:20241027T020000
TZOFFSETFROM:+0200
TZOFFSETTO:+0100
TZNAME:CET
END:STANDARD
END:VTIMEZONE
END:VCALENDAR