BEGIN:VCALENDAR
VERSION:2.0
PRODID:-//wp-events-plugin.com//7.2.3.1//EN
TZID:Europe/Zurich
X-WR-TIMEZONE:Europe/Zurich
BEGIN:VEVENT
UID:6@sac-saas.ch
DTSTART;TZID=Europe/Zurich;VALUE=DATE:20221008
DTEND;TZID=Europe/Zurich;VALUE=DATE:20221010
DTSTAMP:20220929T160319Z
URL:https://sac-saas.ch/events/tourenwochenende-uri-plasir/
SUMMARY:Tourenwochenende Uri Plasir
DESCRIPTION:\nÜri plasir\n\nProgramm: Samstag: Reise nach Erstfeld\, dort
  machen wir eine Mehrseillängenroute. Mittagspause zuoberst auf dem Bänk
 li. Beim Abstieg seilen wir alles ab und Verschiebung ins Meiental. Anschl
 iessend meistern wir zum Abschluss noch den Zustieg zur Seewenhütte.\n\nM
 ein Text und Bilder wurde hier durch die Überarbeitung der Homepage leide
 r gelöscht.\n\n\n\nSchwierigkeit\nL / 4c\n\n\nEckdaten\n↑ 1300 Hm  ↓
  1300 Hm -&gt\; 8 h\n\n\nAusrüstung\nBergschuhe\, Helm\, Gstältli\, Stei
 geisen\, Tuber\, Prusik\, Selbstsicherungsschlinge\, Lunch\n\n\nTreffpunkt
 \n\n\n\nTeilnehmerzahl\n4 TN (1 Seilführer)\n\n\n\n&nbsp\;
CATEGORIES:Hochtour
END:VEVENT
BEGIN:VTIMEZONE
TZID:Europe/Zurich
X-LIC-LOCATION:Europe/Zurich
BEGIN:DAYLIGHT
DTSTART:20220327T030000
TZOFFSETFROM:+0100
TZOFFSETTO:+0200
TZNAME:CEST
END:DAYLIGHT
END:VTIMEZONE
END:VCALENDAR