BEGIN:VCALENDAR
VERSION:2.0
PRODID:-//wp-events-plugin.com//7.2.3.1//EN
TZID:Europe/Zurich
X-WR-TIMEZONE:Europe/Zurich
BEGIN:VEVENT
UID:132@sac-saas.ch
DTSTART;TZID=Europe/Zurich;VALUE=DATE:20221201
DTEND;TZID=Europe/Zurich;VALUE=DATE:20221202
DTSTAMP:20221202T142545Z
URL:https://sac-saas.ch/events/tourenvorlage-test/
SUMMARY:Tourenvorlage Test / Anmeldung ab
DESCRIPTION:&nbsp\;\n\n\n\nAnmeldung möglich ab:\n\n\n\nSchwierigkeit\n\n\
 n\nEckdaten\n ↑ xxx Hm  ↓ xxx Hm -&gt\; x h\n\n\nAusrüstung\n\n\n\n
 Treffpunkt\n\n\n\nTeilnehmerzahl\n\n\n\n\n&nbsp\;
CATEGORIES:Hochtour,SAC Tour
END:VEVENT
BEGIN:VTIMEZONE
TZID:Europe/Zurich
X-LIC-LOCATION:Europe/Zurich
BEGIN:STANDARD
DTSTART:20221030T020000
TZOFFSETFROM:+0200
TZOFFSETTO:+0100
TZNAME:CET
END:STANDARD
END:VTIMEZONE
END:VCALENDAR