BEGIN:VCALENDAR
VERSION:2.0
PRODID:-//wp-events-plugin.com//7.2.3.1//EN
TZID:Europe/Zurich
X-WR-TIMEZONE:Europe/Zurich
BEGIN:VEVENT
UID:154@sac-saas.ch
DTSTART;TZID=Europe/Zurich;VALUE=DATE:20230922
DTEND;TZID=Europe/Zurich;VALUE=DATE:20230923
DTSTAMP:20230921T095853Z
URL:https://sac-saas.ch/events/tourenvorlage-anmeldung-ab-01-09-2023/
SUMMARY:TL-Hock / Anmeldung ab sofort
DESCRIPTION:Weitere Infos via persönlicher Einladung\n\n\n\nAnmeldung mög
 lich ab:\nsofort\n\n\nSchwierigkeit\n\n\n\nEckdaten\n18 Uhr Versammlung\, 
 danach gemeinsames Nachtessen\n\n\nAusrüstung\nAgenda\n\n\nTreffpunkt\nHo
 tel Kristall Saphir\, Saas Almagell\n\n\nTeilnehmer\nTL\, Wanderleiter\, B
 F\, Hüttenwarte\, Homepage-Mitarbeiter\, Vorstand\n\n\n\n&nbsp\;
CATEGORIES:SAC Tour
END:VEVENT
BEGIN:VTIMEZONE
TZID:Europe/Zurich
X-LIC-LOCATION:Europe/Zurich
BEGIN:DAYLIGHT
DTSTART:20230326T030000
TZOFFSETFROM:+0100
TZOFFSETTO:+0200
TZNAME:CEST
END:DAYLIGHT
END:VTIMEZONE
END:VCALENDAR