BEGIN:VCALENDAR
VERSION:2.0
PRODID:-//wp-events-plugin.com//7.2.3.1//EN
TZID:Europe/Zurich
X-WR-TIMEZONE:Europe/Zurich
BEGIN:VEVENT
UID:615@sac-saas.ch
DTSTART;TZID=Europe/Zurich;VALUE=DATE:20260314
DTEND;TZID=Europe/Zurich;VALUE=DATE:20260315
DTSTAMP:20260222T182136Z
URL:https://sac-saas.ch/events/tourenvorlag-2027-anmeldung-ab-copy/
SUMMARY:Skitour Mauerhorn Lötschen / Anmeldung ab 14.02.2026
DESCRIPTION:&nbsp\;\n\n\n\nAnmeldung ab:\n 14.02.2026\n\n\nSchwierigkeit\n
 WS\n\n\nEckdaten\n↑800 ↓1500 Hm\n\n\nAusrüstung\n\n\n\nTreffpunkt\n\n
 \n\nTeilnehmerzahl\n8\n\n\n\n&nbsp\;
CATEGORIES:SAC Tour,Skitour
END:VEVENT
BEGIN:VTIMEZONE
TZID:Europe/Zurich
X-LIC-LOCATION:Europe/Zurich
BEGIN:STANDARD
DTSTART:20251026T020000
TZOFFSETFROM:+0200
TZOFFSETTO:+0100
TZNAME:CET
END:STANDARD
END:VTIMEZONE
END:VCALENDAR