BEGIN:VCALENDAR
VERSION:2.0
PRODID:-//wp-events-plugin.com//7.2.3.1//EN
TZID:Europe/Zurich
X-WR-TIMEZONE:Europe/Zurich
BEGIN:VEVENT
UID:2@sac-saas.ch
DTSTART;TZID=Europe/Zurich;VALUE=DATE:20220923
DTEND;TZID=Europe/Zurich;VALUE=DATE:20220924
DTSTAMP:20220922T075735Z
URL:https://sac-saas.ch/events/tourenleiterhock/
SUMMARY:Tourenleiterhock
DESCRIPTION:Eingeladen sind alle TL\, Wanderleiter\, Hüttenwarte\, Homepag
 e-Redakteure\, Bergführer und der Vorstand.\n\nWeitere Infos folgen via E
 mail anfangs September.\n\nBitte bei der Anmeldung angeben\, wer Vegi ist
 …\n\n&nbsp\;\n\n\n\nSchwierigkeit\n\n\n\nEckdaten\nzuerst TL Hock\, dann
  gemeinsames Nachtessen\n\n\nAusrüstung\npersönliche Agenda\n\n\nTreffpu
 nkt\n18 Uhr Saas Grund\n\n\nTeilnehmerzahl\nmöglichst alle\n\n\n\n&nbsp\;
CATEGORIES:Hochtour
END:VEVENT
BEGIN:VTIMEZONE
TZID:Europe/Zurich
X-LIC-LOCATION:Europe/Zurich
BEGIN:DAYLIGHT
DTSTART:20220327T030000
TZOFFSETFROM:+0100
TZOFFSETTO:+0200
TZNAME:CEST
END:DAYLIGHT
END:VTIMEZONE
END:VCALENDAR