BEGIN:VCALENDAR
VERSION:2.0
PRODID:-//wp-events-plugin.com//7.2.3.1//EN
TZID:Europe/Zurich
X-WR-TIMEZONE:Europe/Zurich
BEGIN:VEVENT
UID:537@sac-saas.ch
DTSTART;TZID=Europe/Zurich;VALUE=DATE:20250919
DTEND;TZID=Europe/Zurich;VALUE=DATE:20250920
DTSTAMP:20251123T190731Z
URL:https://sac-saas.ch/events/tourenleiterhock-anmeldung-ab-05-08-2025/
SUMMARY:Tourenleiterhock / Anmeldung ab 05.08.2025
DESCRIPTION:Tourenleiterhock in Saas-Balen\n\n\n\n\n\n\n\nSchwierigkeit\n\n
 \n\nEckdaten\n\n\n\nAusrüstung\n\n\n\nTreffpunkt\n18.30 Uhr\, Saas-Balen\
 , Restaurant Der Sdchwiizer\n\n\nTeilnehmerzahl\n\n\n\n\n&nbsp\;
CATEGORIES:SAC Tour
END:VEVENT
BEGIN:VTIMEZONE
TZID:Europe/Zurich
X-LIC-LOCATION:Europe/Zurich
BEGIN:DAYLIGHT
DTSTART:20250330T030000
TZOFFSETFROM:+0100
TZOFFSETTO:+0200
TZNAME:CEST
END:DAYLIGHT
END:VTIMEZONE
END:VCALENDAR