BEGIN:VCALENDAR
VERSION:2.0
PRODID:-//wp-events-plugin.com//7.2.3.1//EN
TZID:Europe/Zurich
X-WR-TIMEZONE:Europe/Zurich
BEGIN:VEVENT
UID:405@sac-saas.ch
DTSTART;TZID=Europe/Zurich;VALUE=DATE:20250523
DTEND;TZID=Europe/Zurich;VALUE=DATE:20250524
DTSTAMP:20250522T085228Z
URL:https://sac-saas.ch/events/tourenleiterabend-anmeldung-ab-23-04-2025/
SUMMARY:Tourenleiterabend / Anmeldung ab 23.04.2025
DESCRIPTION:Hallo zusammen\n\nEs gibt eine Programmänderung:\n\nVorgängig
  haben wir eine Führung durch das historische Leuk mit Schloss. Sarah wir
 d uns den Treffpunkt und Zeit noch durchgeben.\n\nDanach gehen wir in das 
 Restaurant Relais Bayard und werden dort etwas zu uns nehmen und unsere An
 ekdoten vortragen :-)\n\n\n\nAnmeldung ab:\n23.04.2025\n\n\nSchwierigkeit\
 n\n\n\nEckdaten\n\n\n\nAusrüstung\ngute Laune\,\n\n\nTreffpunkt\n\n\n\nTe
 ilnehmerzahl\n\n\n\n\n&nbsp\;
CATEGORIES:SAC Tour
END:VEVENT
BEGIN:VTIMEZONE
TZID:Europe/Zurich
X-LIC-LOCATION:Europe/Zurich
BEGIN:DAYLIGHT
DTSTART:20250330T030000
TZOFFSETFROM:+0100
TZOFFSETTO:+0200
TZNAME:CEST
END:DAYLIGHT
END:VTIMEZONE
END:VCALENDAR