BEGIN:VCALENDAR
VERSION:2.0
PRODID:-//wp-events-plugin.com//7.2.3.1//EN
TZID:Europe/Zurich
X-WR-TIMEZONE:Europe/Zurich
BEGIN:VEVENT
UID:147@sac-saas.ch
DTSTART;TZID=Europe/Zurich;VALUE=DATE:20230505
DTEND;TZID=Europe/Zurich;VALUE=DATE:20230506
DTSTAMP:20230331T154426Z
URL:https://sac-saas.ch/events/tourenleiterabend-anmeldung-ab-01-04-2023/
SUMMARY:Terminänderung-Tourenleiterabend / Anmeldung ab 01.04.2023
DESCRIPTION:Der Anlass findest am Freitag\, 05.05. statt (nicht wie ursprü
 nglich geplant am 12.05.)\n\nWie in den letzten Jahren erfolgreich erprobt
 \, möchten wir euch wieder zu einem gemütlichen Grillabend einladen. Das
  Chatzohüs hat sich bewährt als idealer\, von allen Seiten gut zu erreic
 hender  Treffpunkt. Für Getränke und Grillgut wird gesorgt. Es wäre su
 per\, wenn jeder eine Kleinigkeit dazusteuert (Salate\, Kuchen\,...).\n\nW
 ir freuen uns auf ein Wiedersehen mit allen.\n\nMichi St.\, Simone und der
  Vorstand\n\n&nbsp\;\n\n&nbsp\;\n\n\n\nAnmeldung möglich ab:\n01.04.2023\
 , 07:00\n\n\nSchwierigkeit\n\n\n\nEckdaten\n ab ca. 17 Uhr Apero\, ab ca.
  18.30 Uhr Grillen\n\n\nAusrüstung\n\n\n\nTreffpunkt\nGrillstelle Chatzoh
 üs Visp\n\n\nTeilnehmerzahl\nalle TL\, Vorstand\, Webseite\, Hüttenwarte
 \, BF des SAC Saas\n\n\n\n&nbsp\;
CATEGORIES:SAC Tour
END:VEVENT
BEGIN:VTIMEZONE
TZID:Europe/Zurich
X-LIC-LOCATION:Europe/Zurich
BEGIN:DAYLIGHT
DTSTART:20230326T030000
TZOFFSETFROM:+0100
TZOFFSETTO:+0200
TZNAME:CEST
END:DAYLIGHT
END:VTIMEZONE
END:VCALENDAR