BEGIN:VCALENDAR
VERSION:2.0
PRODID:-//wp-events-plugin.com//7.2.3.1//EN
TZID:Europe/Zurich
X-WR-TIMEZONE:Europe/Zurich
BEGIN:VEVENT
UID:264@sac-saas.ch
DTSTART;TZID=Europe/Zurich;VALUE=DATE:20231217
DTEND;TZID=Europe/Zurich;VALUE=DATE:20231218
DTSTAMP:20231124T162501Z
URL:https://sac-saas.ch/events/tourenleiter-fk-winter-2024-anmeldung-ab-17
 -11-2023/
SUMMARY:Tourenleiter FK Winter 2024 / Anmeldung ab 17.11.2023
DESCRIPTION:Tourenleiter Winter-FK\n\nWir werden den Tourenleiter FK im Rah
 men einer Skitour durchführen. Spuranlage und Präparation\, orientieren 
 im Gelände\, Entscheiden bei Lawinengefahr und Tourenvorbereitung dies si
 nd einige der Ausbildungsthemen welche wir behandeln werden.\n\nWenn ihr a
 ls Tourenleiter weitere Ideen oder Wünsche habt für weitere Ausbildungsp
 unkte\, fügt dies bitte eurer Anmeldung zu oder schickt mir eine Nachrich
 t.\n\nGanz liebe Grüsse und ich freue mich euch alle wieder im Schnee zu 
 treffen!!!\n\nVoide Gabriel\n\n079 698 60 65\n\n(Kurskosten für Sommer-TL
 : 50 Fr.\; Winter-TL haben Vorrang)\n\n\n\nAnmeldung möglich ab:\n17.11.2
 023\n\n\nSchwierigkeit\nAusbildungstag\n\n\nEckdaten\n\n\n\nAusrüstung\nK
 omplette Skitourenausrüstung\n\n\nTreffpunkt\nwird kurz vor dem Kurs beka
 nntgegeben\n\n\nTeilnehmerzahl\n10\n\n\n\n&nbsp\;
CATEGORIES:SAC Tour
END:VEVENT
BEGIN:VTIMEZONE
TZID:Europe/Zurich
X-LIC-LOCATION:Europe/Zurich
BEGIN:STANDARD
DTSTART:20231029T020000
TZOFFSETFROM:+0200
TZOFFSETTO:+0100
TZNAME:CET
END:STANDARD
END:VTIMEZONE
END:VCALENDAR