BEGIN:VCALENDAR
VERSION:2.0
PRODID:-//wp-events-plugin.com//7.2.3.1//EN
TZID:Europe/Zurich
X-WR-TIMEZONE:Europe/Zurich
BEGIN:VEVENT
UID:268@sac-saas.ch
DTSTART;TZID=Europe/Zurich;VALUE=DATE:20240615
DTEND;TZID=Europe/Zurich;VALUE=DATE:20240616
DTSTAMP:20240610T173503Z
URL:https://sac-saas.ch/events/tourenleiter-fk-sommer-2024-anmeldung-ab-15
 -05-2024/
SUMMARY:Mangels TN abgesagt Tourenleiter FK Sommer / Anmeldung ab 15.05.202
 4
DESCRIPTION:Für Sommertourenleiter zählt der Tag als Weiterbildung und is
 t somit kostenlos.\nFür die Wintertourenleiter zählt der Tag auch als We
 iterbildung\, muss aber bezahlt werden.\n\n\n\nAnmeldung möglich ab:\n15.
 05.2024\n\n\nSchwierigkeit\n\n\n\nEckdaten\n\n\n\nAusrüstung\n\n\n\nTreff
 punkt\n\n\n\nTeilnehmerzahl\n\n\n\n\n&nbsp\;
CATEGORIES:Ausbildungskurs,SAC Tour
END:VEVENT
BEGIN:VTIMEZONE
TZID:Europe/Zurich
X-LIC-LOCATION:Europe/Zurich
BEGIN:DAYLIGHT
DTSTART:20240331T030000
TZOFFSETFROM:+0100
TZOFFSETTO:+0200
TZNAME:CEST
END:DAYLIGHT
END:VTIMEZONE
END:VCALENDAR