BEGIN:VCALENDAR
VERSION:2.0
PRODID:-//wp-events-plugin.com//7.2.3.1//EN
TZID:Europe/Zurich
X-WR-TIMEZONE:Europe/Zurich
BEGIN:VEVENT
UID:151@sac-saas.ch
DTSTART;TZID=Europe/Zurich;VALUE=DATE:20230826
DTEND;TZID=Europe/Zurich;VALUE=DATE:20230828
DTSTAMP:20230717T112742Z
URL:https://sac-saas.ch/events/tl-tour-anmeldung-ab-26-06-2023/
SUMMARY:TL-Tour / Anmeldung ab 26.06.2023
DESCRIPTION:genauere Infos über TL-Chat\n\nKosten pro TN: 50 Fr BF-Kosten 
 pro Tag\, Fahrtkosten\, Übernachtung\, HP\, evtl Bahn\, Spesen BF anteili
 g\n\n\n\nAnmeldung möglich ab:\n26.06.2023\, 07:00\n\n\nSchwierigkeit\n\n
 \n\nEckdaten\nalpines Klettern mit Bergschuhen\n\n\nAusrüstung\n\n\n\nTre
 ffpunkt\n\n\n\nTeilnehmerzahl\n6 plus BF\n\n\n\n&nbsp\;
CATEGORIES:SAC Tour
END:VEVENT
BEGIN:VTIMEZONE
TZID:Europe/Zurich
X-LIC-LOCATION:Europe/Zurich
BEGIN:DAYLIGHT
DTSTART:20230326T030000
TZOFFSETFROM:+0100
TZOFFSETTO:+0200
TZNAME:CEST
END:DAYLIGHT
END:VTIMEZONE
END:VCALENDAR