BEGIN:VCALENDAR
VERSION:2.0
PRODID:-//wp-events-plugin.com//7.2.3.1//EN
TZID:Europe/Zurich
X-WR-TIMEZONE:Europe/Zurich
BEGIN:VEVENT
UID:135@sac-saas.ch
DTSTART;TZID=Europe/Zurich;VALUE=DATE:20230513
DTEND;TZID=Europe/Zurich;VALUE=DATE:20230514
DTSTAMP:20230424T171814Z
URL:https://sac-saas.ch/events/tl-fk-sommer-anmeldung-ab-01-04-2023/
SUMMARY:TL FK Sommer / Anmeldung ab 01.04.2023
DESCRIPTION:Winter-Tourenleiter und Mitglieder mit Tourenerfahrung können 
 auch gerne am Kurs teilnehmen.\n\nKosten: 50 Fr. (Sommer TL keine Kosten!)
 \n\nInfos folgen\n\n\n\nAnmeldung möglich ab:\n01.04.2023\, 07:00\n\n\nSc
 hwierigkeit\n\n\n\nEckdaten\n\n\n\nAusrüstung\n\n\n\nTreffpunkt\n\n\n\nTe
 ilnehmerzahl\n10\n\n\n\n&nbsp\;
CATEGORIES:SAC Tour
END:VEVENT
BEGIN:VTIMEZONE
TZID:Europe/Zurich
X-LIC-LOCATION:Europe/Zurich
BEGIN:DAYLIGHT
DTSTART:20230326T030000
TZOFFSETFROM:+0100
TZOFFSETTO:+0200
TZNAME:CEST
END:DAYLIGHT
END:VTIMEZONE
END:VCALENDAR