BEGIN:VCALENDAR
VERSION:2.0
PRODID:-//wp-events-plugin.com//7.2.3.1//EN
TZID:Europe/Zurich
X-WR-TIMEZONE:Europe/Zurich
BEGIN:VEVENT
UID:33@sac-saas.ch
DTSTART;TZID=Europe/Zurich;VALUE=DATE:20230503
DTEND;TZID=Europe/Zurich;VALUE=DATE:20230504
DTSTAMP:20230121T200617Z
URL:https://sac-saas.ch/events/suonenwanderung-miege-salgesch/
SUMMARY:Suonenwanderung Miège - Salgesch / Anmeldung ab 28.03.2023
DESCRIPTION:Schöne Frühlingswanderung entlang 4 verschiedene Suonen.\n\nW
 ir starten in Miège und wandern über den Fluss Raspille\, welche die deu
 tsch-französische Sprachgrenze formt\, nach Salgesch.\n\n\n\nAnmeldung m
 öglich ab:\n28.03.2023\, 07:00\n\n\nSchwierigkeit\nT3\n\n\nEckdaten\n 
 ↑ 600 Hm  ↓ 700 Hm -&gt\; 5-6 h\n\n\nAusrüstung\nWanderausrüstung +
  Verpflegung\n\n\nTreffpunkt\nMiège\n\n\nTeilnehmerzahl\n10\n\n\n\n&nbsp\
 ;
CATEGORIES:SAC Tour,Wanderung
END:VEVENT
BEGIN:VTIMEZONE
TZID:Europe/Zurich
X-LIC-LOCATION:Europe/Zurich
BEGIN:DAYLIGHT
DTSTART:20230326T030000
TZOFFSETFROM:+0100
TZOFFSETTO:+0200
TZNAME:CEST
END:DAYLIGHT
END:VTIMEZONE
END:VCALENDAR