BEGIN:VCALENDAR
VERSION:2.0
PRODID:-//wp-events-plugin.com//7.2.3.1//EN
TZID:Europe/Zurich
X-WR-TIMEZONE:Europe/Zurich
BEGIN:VEVENT
UID:422@sac-saas.ch
DTSTART;TZID=Europe/Zurich;VALUE=DATE:20250517
DTEND;TZID=Europe/Zurich;VALUE=DATE:20250518
DTSTAMP:20250513T085645Z
URL:https://sac-saas.ch/events/sommer-tourenleiter-fk-anmeldung-ab-17-04-2
 025/
SUMMARY:Sommer-Tourenleiter FK / Anmeldung ab 17.04.2025
DESCRIPTION:Sommer Tourenleiter FK\n\nWie verhalte ich mich richtig bei ein
 em Unfall in den Bergen...\n\nBenedikt Jaggy\, Rettungsspezialist bei der 
 KWRO\, wird euch durch diesen spannenden Tag leiten. Von den verschiedenen
  Alarmierungsmöglichkeiten\, zur Hubschraubereinweisung bis zur Selbstret
 tung werdet ihr viele neue Fähigkeiten erlernen.\n\n&nbsp\;\n\nDie genaue
 n Angaben zu Material und Treffpunkt werden kurz vor dem Kurs kommuniziert
 .\n\n&nbsp\;\n\nGanz liebe Grüsse und ich wünsche euch einen lehrreichen
  Tag mit Bene.\n\n&nbsp\;\n\nVoide Gabriel\n\n&nbsp\;\n\n\n\n\n\n\n\nSchwi
 erigkeit\nAusbildungstag\n\n\nEckdaten\n\n\n\nAusrüstung\nAusrüstung fü
 r eine Sommer Tagestour ohne Eis\, 4 Seile à 30 m \, leichte Bergschuhe\,
  3 Express pro TN\, HMS\, Bandschlingen\, Reepschnur\,  Sicherungsgerät\
 , Lunch\,\n\n\nTreffpunkt\n 8:00 Flugplatz Raron\, Hangar 42\n\n\nTeilneh
 merzahl\n10 Teilnehmer\n\n\n\n&nbsp\;
CATEGORIES:SAC Tour
END:VEVENT
BEGIN:VTIMEZONE
TZID:Europe/Zurich
X-LIC-LOCATION:Europe/Zurich
BEGIN:DAYLIGHT
DTSTART:20250330T030000
TZOFFSETFROM:+0100
TZOFFSETTO:+0200
TZNAME:CEST
END:DAYLIGHT
END:VTIMEZONE
END:VCALENDAR