BEGIN:VCALENDAR
VERSION:2.0
PRODID:-//wp-events-plugin.com//7.2.3.1//EN
TZID:Europe/Zurich
X-WR-TIMEZONE:Europe/Zurich
BEGIN:VEVENT
UID:380@sac-saas.ch
DTSTART;TZID=Europe/Zurich;VALUE=DATE:20250301
DTEND;TZID=Europe/Zurich;VALUE=DATE:20250303
DTSTAMP:20250228T124156Z
URL:https://sac-saas.ch/events/skitourenwochenende-auf-der-clubhuette-grub
 enalp-anmeldung-ab-18-01-2025/
SUMMARY:Skitourenwochenende auf der LÖTSCHENPASSHÜTTE / Anmeldung ab 18.0
 1.2025
DESCRIPTION:&nbsp\;\n\n\n\n\n\n\n\nSchwierigkeit\nWS\n\n\nEckdaten\n1400HM 
 pro Tag\n\n\nAusrüstung\nSkitourenausrüstung komplett plus pers. Utensil
 ien für Übernachtung\n\n\nTreffpunkt\nBergbahn Wiler am Samstag um 08:15
 \n\n\nTeilnehmerzahl\n4 inkl 1TL\n\n\n\n&nbsp\;
CATEGORIES:SAC Tour,Skitour
END:VEVENT
BEGIN:VTIMEZONE
TZID:Europe/Zurich
X-LIC-LOCATION:Europe/Zurich
BEGIN:STANDARD
DTSTART:20241027T020000
TZOFFSETFROM:+0200
TZOFFSETTO:+0100
TZNAME:CET
END:STANDARD
END:VTIMEZONE
END:VCALENDAR