BEGIN:VCALENDAR
VERSION:2.0
PRODID:-//wp-events-plugin.com//7.2.3.1//EN
TZID:Europe/Zurich
X-WR-TIMEZONE:Europe/Zurich
BEGIN:VEVENT
UID:14@sac-saas.ch
DTSTART;TZID=Europe/Zurich;VALUE=DATE:20221211
DTEND;TZID=Europe/Zurich;VALUE=DATE:20221212
DTSTAMP:20221209T192222Z
URL:https://sac-saas.ch/events/skitourentechnik-kurs/
SUMMARY:Skitourentechnik-Kurs / Anmeldung ab 06.11.2022
DESCRIPTION:Der Kurs findet am Sonntag statt (nicht am Samstag\, wie es fä
 lschlicherweise im Programmheft steht).\n\nSkitourentechnik-Kurs\n\nOb fü
 r Anfänger oder als Einstimmung in die kommende Skitourensaison\, mit die
 sem Tag möchten wir dir viele nützliche Tipps zum Thema Skitouren mit au
 f den Weg geben. Es geht nicht um Geschwindigkeit oder Leistung\, es geht 
 hier um das klassische traditionelle Skitouren. Auf einer kleinen Skitour 
 werden wir uns optimal vorbereiten.\n\nFolgende Punkte versuchen wir zu th
 ematisieren: Fragen zum Material\, Was kommt in den Rucksack\, Anfellen un
 d Abfellen\, Lauftechnik\, Spitzkehren\, je nach Level der Teilnehmer Scha
 ufel-Sonde-LVS.\n\nWir freuen uns auf einen lehrreichen Winterstart\n\nGab
 riel Voide mit Tourenleiter\n\n&nbsp\;\n\n\n\nAnmeldung möglich ab:\n06.1
 1.2022\, 07:00\n\n\nSchwierigkeit\nfür jedermann\, besonders Einsteiger\n
 \n\nVoraussetzung\n Skifahren\n\n\nAusrüstung\nSki\, Felle\, Harscheisen
 \, LVS\, Schaufel\, Sonde\, Helm fakultativ\, kleine Zwischenverpflegung\,
  \n\n\nTreffpunkt\n8:30 Restaurant/Hotel Monte Leone auf dem Simplonpass.
  Vedrana und ich werden schon vor Ort sein!!!\n\n\nTeilnehmerzahl\n13 plus
  BF und 2 TL\n\n\n\n&nbsp\;
CATEGORIES:Ausbildungskurs,SAC Tour
END:VEVENT
BEGIN:VTIMEZONE
TZID:Europe/Zurich
X-LIC-LOCATION:Europe/Zurich
BEGIN:STANDARD
DTSTART:20221030T020000
TZOFFSETFROM:+0200
TZOFFSETTO:+0100
TZNAME:CET
END:STANDARD
END:VTIMEZONE
END:VCALENDAR