BEGIN:VCALENDAR
VERSION:2.0
PRODID:-//wp-events-plugin.com//7.2.3.1//EN
TZID:Europe/Zurich
X-WR-TIMEZONE:Europe/Zurich
BEGIN:VEVENT
UID:116@sac-saas.ch
DTSTART;TZID=Europe/Zurich;VALUE=DATE:20230416
DTEND;TZID=Europe/Zurich;VALUE=DATE:20230417
DTSTAMP:20230415T061306Z
URL:https://sac-saas.ch/events/skitourenrunde-fuer-entdecker/
SUMMARY:Planänderung Klettern statt Skitour/ Anmeldung noch möglich
DESCRIPTION:&nbsp\;\n\n\n\nAnmeldung möglich ab:\n15.03.2023\, 07:00\n\n\n
 Schwierigkeit\nZS\n\n\nEckdaten\n ↑ 1500 hm\n\n\nAusrüstung\nWird am F
 reitag bekannt gegeben\n\n\nTreffpunkt\nWird am Freitag bekannt gegeben\n\
 n\nTeilnehmerzahl\n6\n\n\n\nAus Plan A wird Plan B und aus Plan B wird Pla
 n C.\nAm Sonntag wird es völlig winden und ab April gilt das Motto Skitou
 ren sind zum geniessen da.\nWir gehen am Sonntag klettern. Region wird Mer
 gozzo sein.\nDiana hat ein Auto von Saas Grund ab.\nAb Brig starten wir no
 ch mit einem 2. Auto. Das 2. Auto wir noch definiert.\nWer Material benöt
 igt\, Bitte melden. Finken\, Helm\, Klettergurt\, Schlinge\, Karabiner\n\n
 Programm:\nSonntag 7:45 Uhr Brig\nZwischenstopp für ein Kaffee\nKlettern\
 nPizza muss drin liegen\nKlettern\n\nUnsere Locals für Bella Italia  Dia
 na und Simone werden ein Klettergebiet definieren\, so das auch Anfänger 
 ihren Spass haben.\n\nDiana und Simone nehmen noch ein Seil mit.\n\n&nbsp\
 ;\n\n&nbsp\;
CATEGORIES:SAC Tour
END:VEVENT
BEGIN:VTIMEZONE
TZID:Europe/Zurich
X-LIC-LOCATION:Europe/Zurich
BEGIN:DAYLIGHT
DTSTART:20230326T030000
TZOFFSETFROM:+0100
TZOFFSETTO:+0200
TZNAME:CEST
END:DAYLIGHT
END:VTIMEZONE
END:VCALENDAR