BEGIN:VCALENDAR
VERSION:2.0
PRODID:-//wp-events-plugin.com//7.2.3.1//EN
TZID:Europe/Zurich
X-WR-TIMEZONE:Europe/Zurich
BEGIN:VEVENT
UID:271@sac-saas.ch
DTSTART;TZID=Europe/Zurich;VALUE=DATE:20240315
DTEND;TZID=Europe/Zurich;VALUE=DATE:20240318
DTSTAMP:20240308T180459Z
URL:https://sac-saas.ch/events/skitouren-wochenende-grubenalp-anmeldung-ab
 -02-01-2024-bis-03-03-2024/
SUMMARY:Freie Plätze (auch nur für Hüttenabend)  / Skitouren-Wochenende 
 Grubenalp/ Anmeldung ab 02.01.2024 bis 03.03.2024
DESCRIPTION:Text\n\n\n\nAnmeldung möglich ab:\nab 02.01.2024\n\n\nSchwieri
 gkeit\nWS+\n\n\nEckdaten\ntäglich ca. 1000 HM\n\n\nAusrüstung\nPackliste
  folgt in Whatsapp-Chat\n\n\nTreffpunkt\nFreitag 08:45 Talstation Saas-Gru
 nd\n\n(Alternativ für Nachreisende um 15:45 bei der Talstation)\n\n&nbsp\
 ;\n\n\nTeilnehmerzahl\n12 inkl 2TL\n\n\n\n&nbsp\;
CATEGORIES:SAC Tour,Skitour
END:VEVENT
BEGIN:VTIMEZONE
TZID:Europe/Zurich
X-LIC-LOCATION:Europe/Zurich
BEGIN:STANDARD
DTSTART:20231029T020000
TZOFFSETFROM:+0200
TZOFFSETTO:+0100
TZNAME:CET
END:STANDARD
END:VTIMEZONE
END:VCALENDAR