BEGIN:VCALENDAR
VERSION:2.0
PRODID:-//wp-events-plugin.com//7.2.3.1//EN
TZID:Europe/Zurich
X-WR-TIMEZONE:Europe/Zurich
BEGIN:VEVENT
UID:267@sac-saas.ch
DTSTART;TZID=Europe/Zurich;VALUE=DATE:20240301
DTEND;TZID=Europe/Zurich;VALUE=DATE:20240310
DTSTAMP:20240127T170340Z
URL:https://sac-saas.ch/events/skitouren-transalp-2024-anmeldung-ab-15-11-
 2023/
SUMMARY:Skitouren Transalp / Anmeldung ab 15.11.2023
DESCRIPTION:Transalpetappe Bad Gastein - Rottenmann\n\nEndlich erhaltet Ihr
  die Infos zur nächsten Transalpetappe. Da ich die letzten Wochen im Ausl
 and unterwegs war\, konnte ich dies erst jetzt aufschalten. Entschuldigt m
 ich vielmals!!!\n\nDie Alpen im Osten werden allmählich weniger hoch\, do
 ch bleibt immer noch ein schönes Stück Distanz mit vielen Abenteuer und 
 Improvisationen bis Wien. Die diesjährige Etappe führt uns von Bad Gaste
 in zu den bekannten Wintersportorten Obertauern\, Schladming weiter zum Da
 chstein und durch die Ausläufer der Niederen Tauern nach Rottenmann.\n\n1
 .Tag Anreise nach Bad Gastein\n\n2.Tag Bad Gastein - Kreuzkogel - Hüttsch
 lag 1425 Hm\n\n3.Tag Hüttschlag - Karteis - Kreuzeck - Wald 1440 Hm\n\n4.
 Tag Wald - Taferlscharte - Kesselkopf - Südwienerhütte 1100Hm\n\n5.Tag S
 üdwienerhütte - Obertauern - Hundskogel - Akarscharte - Obertal bei Schl
 adming 1100 Hm (Transfer zur Türlwandhütte am Dachstein)\n\n6.Tag Türlw
 andhütte - an den Fuss des Koppenkarstein - Schildenwangalm - Gröbming 8
 00 Hm\, aber viele Km (Transfer nach Mössna)\n\n7.Tag Mössna - Grosses B
 äreck - Mörsbachhütte - Donnersbachwald 1050 Hm\n\n8.Tag Donnersbachwal
 d - Meng - Hintergallingspitz - Gulling 1000 Hm\n\n9.Tag Hochschwung oder 
 Blosen - Rottenmann\, je nach Tour 1080 Hm\, Heimreise nach Visp\n\nIch ha
 be versucht günstige Übernachtungsmöglichkeiten zu finden\, dies ist ab
 er in den Skigebieten äusserst schwierig. Da wir nur eine Nacht in einer 
 Alpenvereinshütte nächtigen\, konnte ich für die Übernachtungen wenig 
 einsparen...also geht es im gleichen Stil weiter wie letztes Jahr. In weis
 er Voraussicht das Badekleid einpacken und geniessen.\n\nIm Preis inbegrif
 fen ist: Bergführer\, Taxi\, Bergbahnen\, Übernachtung mit HP\n\nEs ist 
 wärmstens zu empfehlen eine Annullationsversicherung abzuschliessen.\n\nE
 ine Anmeldung ist verbindlich!!!\n\nab 8 Teilnehmer 1620.-\n\nab 6 Teilneh
 mer 1900.-\n\nAnmeldeschluss 15.12.2023\n\nIch freue mich riesig auf das n
 ächste Abenteuer...und bin mir sicher\, dass ich den heute zurechtgelegte
 n Plan einige Male ändern werde.\n\nGanz liebe Grüsse an alle und bis ba
 ld\n\nGabriel Voide\n\n+41 79 698 60 65\n\n\n\nAnmeldung möglich ab:\n15.
 11.2023\n\n\nSchwierigkeit\n9 Tage Skitour bis max 1500 Höhenmeter pro Ta
 g\n\n\nEckdaten\nimmer Richtung Osten\n\n\nAusrüstung\nkomplette Skitoure
 nausrüstung\n\n\nTreffpunkt\nwird bekanntgegeben\n\n\nTeilnehmerzahl\n10\
 n\n\n\n&nbsp\;
CATEGORIES:SAC Tour
END:VEVENT
BEGIN:VTIMEZONE
TZID:Europe/Zurich
X-LIC-LOCATION:Europe/Zurich
BEGIN:STANDARD
DTSTART:20231029T020000
TZOFFSETFROM:+0200
TZOFFSETTO:+0100
TZNAME:CET
END:STANDARD
END:VTIMEZONE
END:VCALENDAR