BEGIN:VCALENDAR
VERSION:2.0
PRODID:-//wp-events-plugin.com//7.2.3.1//EN
TZID:Europe/Zurich
X-WR-TIMEZONE:Europe/Zurich
BEGIN:VEVENT
UID:263@sac-saas.ch
DTSTART;TZID=Europe/Zurich;VALUE=DATE:20231216
DTEND;TZID=Europe/Zurich;VALUE=DATE:20231217
DTSTAMP:20231213T115213Z
URL:https://sac-saas.ch/events/skitouren-technikkurs-2024-anmeldung-ab-16-
 11-2023/
SUMMARY:Abgesagt: Skitouren Technikkurs 2024
DESCRIPTION:Mangels Interesse ABGESAGT\n\nSkitouren Technikkurs 16.12. 2023
 \n\nDieser Kurs bietet sich ideal als Einstieg in die Skitourensaison. Die
  Lauf-\, Spitzkehr- und Abfahrtstechniken werden erlernt oder verfeinert.\
 n\nEbenfalls werden an diesem Kurs alle offenen Materialfragen zum Thema S
 kitouren behandelt.\n\nWir werden miteinander eine kleine Skitour unterneh
 men um alle Ausbildungspunkte im Gelände anzuwenden.\n\nIch freue mich au
 f einen lehrreichen Tag im Schnee\n\n&nbsp\;\n\nVoide Gabriel\n\n079 698 6
 0 65\n\n\n\nAnmeldung möglich ab:\n16.11.2023\n\n\nSchwierigkeit\nLeicht\
 n\n\nEckdaten\n\n\n\nAusrüstung\nkomplette Skitourenausrüstung inkl. LVS
 \, Schaufel\, Sonde\, Felle\, Harscheisen\n\n\nTreffpunkt\nwird drei Tage 
 vor dem Kurs hier kommuniziert\n\n\nTeilnehmerzahl\n13\n\n\n\n&nbsp\;
CATEGORIES:SAC Tour
END:VEVENT
BEGIN:VTIMEZONE
TZID:Europe/Zurich
X-LIC-LOCATION:Europe/Zurich
BEGIN:STANDARD
DTSTART:20231029T020000
TZOFFSETFROM:+0200
TZOFFSETTO:+0100
TZNAME:CET
END:STANDARD
END:VTIMEZONE
END:VCALENDAR