BEGIN:VCALENDAR
VERSION:2.0
PRODID:-//wp-events-plugin.com//7.2.3.1//EN
TZID:Europe/Zurich
X-WR-TIMEZONE:Europe/Zurich
BEGIN:VEVENT
UID:35@sac-saas.ch
DTSTART;TZID=Europe/Zurich;VALUE=DATE:20230209
DTEND;TZID=Europe/Zurich;VALUE=DATE:20230211
DTSTAMP:20230207T162504Z
URL:https://sac-saas.ch/events/skitouren-im-val-ferret/
SUMMARY:Skitouren im Val Ferret / Anmeldung ab 02.01.2023
DESCRIPTION:Wir ändern das Ziel und verbringen 2 Tage in der Innerschweiz.
 \n\n\n\nAnmeldung möglich ab:\n02.01.2023\, 07:00\n\n\nSchwierigkeit\nWS\
 n\n\nEckdaten\n ↑ 1200 Hm  ↓ 1200 Hm\n\n\nAusrüstung\nSkitourenausr
 üstung\n\n\nTreffpunkt\n07:30 Verlad Oberwald\, Autos: Rolf und Beat\n\n\
 nTeilnehmerzahl\n8 inkl TL Diana und Vedrana\n\n\n\n&nbsp\;
CATEGORIES:SAC Tour,Skitour
END:VEVENT
BEGIN:VTIMEZONE
TZID:Europe/Zurich
X-LIC-LOCATION:Europe/Zurich
BEGIN:STANDARD
DTSTART:20221030T020000
TZOFFSETFROM:+0200
TZOFFSETTO:+0100
TZNAME:CET
END:STANDARD
END:VTIMEZONE
END:VCALENDAR